Workbook

Sheet Using this spreadsheet

Sheet U.S.Broader vs ALL Museum-Goers
A1: Example Survey Results – For Demonstration Purposes Only
A2: A nearly identical version of the Annual Survey is fielded to a demographically representative sample of U.S. adults, referred to as "U.S. Broader Population" below, so your report will include a tab which compares those results with results from Frequent Museum-Goers (when the questions are comparable between both surveys)
A3: Standard Report for Crosstabs/Topline - U.S. Broader Population | B3: Back to Museum Results Tab | E3: Standard Report for Crosstabs/Topline - Frequent Museum-Goers | I3: Frequent Museum-goers +/- U.S. Adults | L3: U.S. Adults +/- Frequent Museum-goers
A4: 2026 Annual Survey of Museum-Goers - U.S. Broader Population | E4: 2026 Annual Survey of Museum-Goers - Frequent Museum-Goers
A5: Fielded January 20-23, 2026 | E5: Results appear when comparable question asked
A7: 1.Question Text
A8: Value | B8: Percent | C8: Count
A9: Answer Choice 1 | B9: 0.252 | C9: 127
A10: Answer Choice 2 | B10: 0.274 | C10: 138
A11: Answer Choice 3 | B11: 0.157 | C11: 79
A12: Answer Choice 4 | B12: 0.577 | C12: 290
A13: Answer Choice 5 | B13: 0.28 | C13: 141
A14: Answer Choice 6 | B14: 0.221 | C14: 111
A15: Answer Choice 7 | B15: 0.298 | C15: 150
A16: Answer Choice 8 | B16: 0.089 | C16: 45
A17: Answer Choice 9 | B17: 0.26 | C17: 131
A18: Answer Choice 10 | B18: 0.175 | C18: 88
A19: Answer Choice 11 | B19: 0.252 | C19: 127
A20: Answer Choice 12 | B20: 0.61 | C20: 307
... A23: Other - please specify | B23: 0.012 | C23: 6
A26: 2.Question Text | E26: 1.Question Text
A27: Value | B27: Percent | C27: Count | E27: Value | F27: Percent | G27: Count | I27: Difference | J27: Ratio | L27: Difference | M27: Ratio
A28: Answer Choice 1 | B28: 0.063 | C28: 129 | E28: Answer Choice 1 | F28: 0.332 | G28: 23039 | I28: =F28-B28 -> 0.269 | J28: =F28/B28 -> 5.2698413 | L28: =B28-F28 -> -0.269 | M28: =B28/F28 -> 0.18975904
A29: Answer Choice 2 | B29: 0.152 | C29: 310 | E29: Answer Choice 2 | F29: 0.327 | G29: 22683 | I29: =F29-B29 -> 0.175 | J29: =F29/B29 -> 2.1513158 | L29: =B29-F29 -> -0.175 | M29: =B29/F29 -> 0.4648318
A30: Answer Choice 3 | B30: 0.377 | C30: 771 | E30: Answer Choice 3 | F30: 0.28 | G30: 19393 | I30: =F30-B30 -> -0.097 | J30: =F30/B30 -> 0.74270557 | L30: =B30-F30 -> 0.097 | M30: =B30/F30 -> 1.3464286
A31: Answer Choice 4 | B31: 0.203 | C31: 415
A32: Answer Choice 5 | B32: 0.205 | C32: 420 | E32: Answer Choice 4 | F32: 0.06 | G32: 4193 | I32: =F32-(B32+B31) -> -0.348 | J32: =F32/(B32+B31) -> 0.14705882 | L32: =(B32+B31)-F32 -> 0.348 | M32: =(B32+B31)/F32 -> 6.8
B33: Totals | C33: 2045 | F33: Totals | G33: 69308
A36: 3.Question Text
A37: Value | B37: Percent | C37: Count
A38: Answer Choice 1 | B38: 0.389 | C38: 626
A39: Answer Choice 2 | B39: 0.302 | C39: 487
A40: Answer Choice 3 | B40: 0.202 | C40: 326
A41: Answer Choice 4 | B41: 0.168 | C41: 270
A42: Answer Choice 5 | B42: 0.365 | C42: 588
A43: Answer Choice 6 | B43: 0.451 | C43: 727
A44: Answer Choice 7 | B44: 0.343 | C44: 553
A45: Answer Choice 8 | B45: 0.345 | C45: 556
A46: Answer Choice 9 | B46: 0.524 | C46: 844
A47: None of these | B47: 0.012 | C47: 19
A48: Other - please specify | B48: 0.017 | C48: 28
A52: Topline and aggregate results © 2026 Wilkening Consulting, LLC
A55: Find out more about the layers of data included in your enrollment at no additional cost

Sheet Museum Results
A1: Example Survey Results – For Demonstration Purposes Only
A2: The Musem Results tab compares your musem's results to the overall results (all Frequent Museum-Goers)
A3: Standard Report for Crosstabs/Topline | E3: Wilkening Pottery Museum
A4: 2026 Annual Survey of Museum-Goers
A7: 1.Question Text
A8: Value | B8: Percent | C8: Count | E8: Percent | F8: Count | G8: Difference
A9: Answer Choice 1 | B9: 0.284 | C9: 25630 | E9: 0.24 | F9: 226 | G9: =E9-$B9 -> -0.044
A10: Answer Choice 2 | B10: 0.289 | C10: 26086 | E10: 0.308 | F10: 290 | G10: =E10-$B10 -> 0.019
A11: Answer Choice 3 | B11: 0.22 | C11: 19829 | E11: 0.296 | F11: 279 | G11: =E11-$B11 -> 0.076
A12: Answer Choice 4 | B12: 0.176 | C12: 15912 | E12: 0.139 | F12: 131 | G12: =E12-$B12 -> -0.037
A13: Answer Choice 5 | B13: 0.03 | C13: 2721 | E13: 0.016 | F13: 15 | G13: =E13-$B13 -> -0.014
B14: Totals | C14: 90178 | E14: Totals | F14: 941
A17: 2.Question Text
A18: Value | B18: Percent | C18: Count | E18: Percent | F18: Count | G18: Difference
A19: Answer Choice 1 | B19: 0.514 | C19: 46153 | E19: 0.529 | F19: 496 | G19: =E19-$B19 -> 0.015
A20: Answer Choice 2 | B20: 0.182 | C20: 16340 | E20: 0.028 | F20: 26 | G20: =E20-$B20 -> -0.154
A21: Answer Choice 3 | B21: 0.214 | C21: 19198 | E21: 0.239 | F21: 224 | G21: =E21-$B21 -> 0.025
A22: Answer Choice 4 | B22: 0.287 | C22: 25759 | E22: 0.125 | F22: 117 | G22: =E22-$B22 -> -0.162
A23: Answer Choice 5 | B23: 0.526 | C23: 47161 | E23: 0.644 | F23: 603 | G23: =E23-$B23 -> 0.118
A24: Answer Choice 6 | B24: 0.369 | C24: 33144 | E24: 0.449 | F24: 421 | G24: =E24-$B24 -> 0.08
A25: Answer Choice 7 | B25: 0.116 | C25: 10384 | E25: 0.006 | F25: 6 | G25: =E25-$B25 -> -0.11
A26: Answer Choice 8 | B26: 0.318 | C26: 28502 | E26: 0.256 | F26: 240 | G26: =E26-$B26 -> -0.062
A27: Answer Choice 9 | B27: 0.344 | C27: 30901 | E27: 0.4 | F27: 375 | G27: =E27-$B27 -> 0.056
A28: None of these | B28: 0.012 | C28: 1080 | E28: 0.009 | F28: 8 | G28: =E28-$B28 -> -0.003
A29: Other - please specify | B29: 0.129 | C29: 11564 | E29: 0.172 | F29: 161 | G29: =E29-$B29 -> 0.043
A32: 3.Question Text
A33: Value | B33: Percent | C33: Count | E33: Percent | F33: Count | G33: Difference
A34: Answer Choice 1 | B34: 0.006 | C34: 322 | E34: 0.004 | F34: 4 | G34: =E34-$B34 -> -0.002
A35: Answer Choice 2 | B35: 0.651 | C35: 32518 | E35: 0.767 | F35: 691 | G35: =E35-$B35 -> 0.116
A36: Answer Choice 3 | B36: 0.31 | C36: 15499 | E36: 0.144 | F36: 130 | G36: =E36-$B36 -> -0.166
A37: Answer Choice 4 | B37: 0.204 | C37: 10185 | E37: 0.121 | F37: 109 | G37: =E37-$B37 -> -0.083
A38: Answer Choice 5 | B38: 0.409 | C38: 20438 | E38: 0.21 | F38: 189 | G38: =E38-$B38 -> -0.199
A39: Answer Choice 6 | B39: 0.066 | C39: 3280 | E39: 0.003 | F39: 3 | G39: =E39-$B39 -> -0.063
A40: Answer Choice 7 | B40: 0.146 | C40: 7273 | E40: 0.04 | F40: 36 | G40: =E40-$B40 -> -0.106
A41: Answer Choice 8 | B41: 0.506 | C41: 25254 | E41: 0.422 | F41: 380 | G41: =E41-$B41 -> -0.084
A42: Answer Choice 9 | B42: 0.39 | C42: 19491 | E42: 0.388 | F42: 350 | G42: =E42-$B42 -> -0.002
A43: None of these | B43: 0.015 | C43: 736 | E43: 0.02 | F43: 18 | G43: =E43-$B43 -> 0.005
A44: Other - please specify | B44: 0.089 | C44: 4467 | E44: 0.121 | F44: 109 | G44: =E44-$B44 -> 0.032
A47: Average | E47: Count | F47: Average | G47: Difference
A48: =(SUM(C34:C42))/B48 -> 1.8917586 | B48: 70971 | E48: 178 | F48: =(SUM(F34:F44)/F14) -> 2.1455898 | G48: =F48-$A48 -> 0.25383119
A53: Topline and aggregate results © 2026 Wilkening Consulting, LLC
A56: Find out more about the types of questions in the base survey

Sheet Historical Data
A1: Example Survey Results – For Demonstration Purposes Only
A2: The Historical Data tab compares your current year's results to past years' results (if you've participated in ASMG before)
A3: ='Museum Results'!$E3 -> Wilkening Pottery Museum | B3: 2026 Annual Survey of Museum-Goers | E3: 2025 Annual Survey of Museum-Goers | I3: 2024 Annual Survey of Museum-Goers
A4: ='Museum Results'!A4 -> 2026 Annual Survey of Museum-Goers
A5: Back to Museum Results tab
A7: 1.Question Text
A8: Value | B8: Percent | C8: Count | E8: Percent | F8: Count | G8: 2026 +/- | I8: Percent | J8: Count | K8: 2026 +/-
A9: Answer Choice 1 | B9: 0.24 | C9: 226 | E9: 0.231 | F9: 349 | G9: =$B9-E9 -> 0.009 | I9: 0.144 | J9: 141 | K9: =$B9-I9 -> 0.096
A10: Answer Choice 2 | B10: 0.308 | C10: 290 | E10: 0.35 | F10: 528 | G10: =$B10-E10 -> -0.042 | I10: 0.291 | J10: 285 | K10: =$B10-I10 -> 0.017
A11: Answer Choice 3 | B11: 0.296 | C11: 279 | E11: 0.356 | F11: 538 | G11: =$B11-E11 -> -0.06 | I11: 0.329 | J11: 322 | K11: =$B11-I11 -> -0.033
A12: Answer Choice 4 | B12: 0.139 | C12: 131 | E12: 0.052 | F12: 79 | G12: =$B12-E12 -> 0.087 | I12: 0.219 | J12: 214 | K12: =$B12-I12 -> -0.08
A13: Answer Choice 5 | B13: 0.016 | C13: 15 | E13: 0.011 | F13: 16 | G13: =$B13-E13 -> 0.005 | I13: 0.017 | J13: 17 | K13: =$B13-I13 -> -0.001
B14: Totals | C14: 941 | E14: Totals | F14: 1510 | I14: Totals | J14: 979
A17: 2.Question Text
A18: Value | B18: Percent | C18: Count | E18: Percent | F18: Count | G18: 2026 +/- | I18: Percent | J18: Count | K18: 2026 +/-
A19: Answer Choice 1 | B19: 0.529 | C19: 496 | E19: 0.59 | F19: 888 | G19: =$B19-E19 -> -0.061 | I19: 0.612 | J19: 598 | K19: =$B19-I19 -> -0.083
A20: Answer Choice 2 | B20: 0.028 | C20: 26 | E20: 0.038 | F20: 57 | G20: =$B20-E20 -> -0.01 | I20: 0.034 | J20: 33 | K20: =$B20-I20 -> -0.006
A21: Answer Choice 3 | B21: 0.239 | C21: 224 | E21: 0.223 | F21: 336 | G21: =$B21-E21 -> 0.016 | I21: 0.235 | J21: 230 | K21: =$B21-I21 -> 0.004
A22: Answer Choice 4 | B22: 0.125 | C22: 117 | E22: 0.128 | F22: 193 | G22: =$B22-E22 -> -0.003 | I22: 0.118 | J22: 115 | K22: =$B22-I22 -> 0.007
A23: Answer Choice 5 | B23: 0.644 | C23: 603 | E23: 0.631 | F23: 950 | G23: =$B23-E23 -> 0.013 | I23: 0.688 | J23: 672 | K23: =$B23-I23 -> -0.044
A24: Answer Choice 6 | B24: 0.449 | C24: 421 | E24: 0.448 | F24: 674 | G24: =$B24-E24 -> 0.001 | I24: 0.425 | J24: 415 | K24: =$B24-I24 -> 0.024
A25: Answer Choice 7 | B25: 0.006 | C25: 6 | E25: 0.016 | F25: 24 | G25: =$B25-E25 -> -0.01 | I25: 0.012 | J25: 12 | K25: =$B25-I25 -> -0.006
A26: Answer Choice 8 | B26: 0.256 | C26: 240 | E26: 0.243 | F26: 365 | G26: =$B26-E26 -> 0.013 | I26: 0.247 | J26: 241 | K26: =$B26-I26 -> 0.009
A27: Answer Choice 9 | B27: 0.4 | C27: 375 | E27: 0.385 | F27: 579 | G27: =$B27-E27 -> 0.015 | I27: 0.448 | J27: 438 | K27: =$B27-I27 -> -0.048
A28: None of these | B28: 0.009 | C28: 8 | E28: 0.007 | F28: 10 | G28: =$B28-E28 -> 0.002 | I28: 0.006 | J28: 6 | K28: =$B28-I28 -> 0.003
A29: Other - please specify | B29: 0.172 | C29: 161 | E29: 0.134 | F29: 202 | G29: =$B29-E29 -> 0.038 | I29: 0.136 | J29: 133 | K29: =$B29-I29 -> 0.036
A32: 3.Question Text
A33: Value | B33: Percent | C33: Count | E33: Percent | F33: Count | G33: 2026 +/- | I33: Percent | J33: Count | K33: 2026 +/-
A34: Answer Choice 1 | B34: 0.004 | C34: 4 | E34: 0.004 | F34: 6 | G34: =$B34-E34 -> 0 | I34: 0.002 | J34: 2 | K34: =$B34-I34 -> 0.002
A35: Answer Choice 2 | B35: 0.767 | C35: 691 | E35: 0.765 | F35: 1108 | G35: =$B35-E35 -> 0.002 | I35: 0.772 | J35: 722 | K35: =$B35-I35 -> -0.005
A36: Answer Choice 3 | B36: 0.144 | C36: 130 | E36: 0.136 | F36: 197 | G36: =$B36-E36 -> 0.008 | I36: 0.145 | J36: 136 | K36: =$B36-I36 -> -0.001
A37: Answer Choice 4 | B37: 0.121 | C37: 109 | E37: 0.137 | F37: 199 | G37: =$B37-E37 -> -0.016 | I37: 0.163 | J37: 152 | K37: =$B37-I37 -> -0.042
A38: Answer Choice 5 | B38: 0.21 | C38: 189 | E38: 0.191 | F38: 276 | G38: =$B38-E38 -> 0.019 | I38: 0.163 | J38: 152 | K38: =$B38-I38 -> 0.047
A39: Answer Choice 6 | B39: 0.003 | C39: 3 | E39: 0.008 | F39: 11 | G39: =$B39-E39 -> -0.005 | I39: 0.002 | J39: 2 | K39: =$B39-I39 -> 0.001
A40: Answer Choice 7 | B40: 0.04 | C40: 36 | E40: 0.058 | F40: 84 | G40: =$B40-E40 -> -0.018 | I40: 0.075 | J40: 70 | K40: =$B40-I40 -> -0.035
A41: Answer Choice 8 | B41: 0.422 | C41: 380 | E41: 0.432 | F41: 626 | G41: =$B41-E41 -> -0.01 | I41: 0.518 | J41: 484 | K41: =$B41-I41 -> -0.096
A42: Answer Choice 9 | B42: 0.388 | C42: 350 | E42: 0.343 | F42: 496 | G42: =$B42-E42 -> 0.045 | I42: 0.356 | J42: 333 | K42: =$B42-I42 -> 0.032
A43: None of these | B43: 0.02 | C43: 18 | E43: 0.016 | F43: 23 | G43: =$B43-E43 -> 0.004 | I43: 0.012 | J43: 11 | K43: =$B43-I43 -> 0.008
A44: Other - please specify | B44: 0.121 | C44: 109 | E44: 0.107 | F44: 155 | G44: =$B44-E44 -> 0.014 | I44: 0.117 | J44: 109 | K44: =$B44-I44 -> 0.004
A51: Topline and aggregate results © 2026 Wilkening Consulting, LLC
A54: See how historical data will be presented in your Visual Slide Deck report

Sheet Art
A1: Example Survey Results – For Demonstration Purposes Only
A2: Peer Group tabs (also known as "Data Cuts") compare your museum's results to those of similar museum types, budgets, and/or geography
A3: Standard Report for Crosstabs/Topline | B3: Back to Museum Results Tab | E3: Art Museum/Center | G3: vs. overall results | I3: ='Museum Results'!$E3 -> Wilkening Pottery Museum | K3: vs. this peer group | M3: Art Museum/Center | P3: Art Museum/Center - $5.1 million -- $10 million | R3: vs. overall results | T3: ='Museum Results'!$E3 -> Wilkening Pottery Museum | V3: vs. this peer group | X3: Art Museum/Center - $5.1 million -- $10 million
A4: 2026 Annual Survey of Museum-Goers | M4: 82 museums | X4: 18 museums
M5: Museums include: | X5: Museums include:
M6: A list of musuems included in this Data Cut will be provided here in this column | X6: A list of musuems included in this Data Cut will be provided here in this column
A7: 1.Question Text
A8: Value | B8: Percent | C8: Count | E8: Percent | F8: Count | G8: Difference | I8: Percent | J8: Count | K8: Difference | P8: Percent | Q8: Count | R8: Difference | T8: Percent | U8: Count | V8: Difference
A9: Answer Choice 1 | B9: 0.284 | C9: 25630 | E9: 0.308 | F9: 12012 | G9: =E9-$B9 -> 0.024 | I9: ='Museum Results'!$E9 -> 0.24 | J9: ='Museum Results'!$F9 -> 226 | K9: =I9-E9 -> -0.068 | P9: 0.307 | Q9: 2955 | R9: =P9-$B9 -> 0.023 | T9: ='Museum Results'!$E9 -> 0.24 | U9: ='Museum Results'!$F9 -> 226 | V9: =T9-P9 -> -0.067
A10: Answer Choice 2 | B10: 0.289 | C10: 26086 | E10: 0.318 | F10: 12394 | G10: =E10-$B10 -> 0.029 | I10: ='Museum Results'!$E10 -> 0.308 | J10: ='Museum Results'!$F10 -> 290 | K10: =I10-E10 -> -0.01 | P10: 0.348 | Q10: 3346 | R10: =P10-$B10 -> 0.059 | T10: ='Museum Results'!$E10 -> 0.308 | U10: ='Museum Results'!$F10 -> 290 | V10: =T10-P10 -> -0.04
A11: Answer Choice 3 | B11: 0.22 | C11: 19829 | E11: 0.202 | F11: 7854 | G11: =E11-$B11 -> -0.018 | I11: ='Museum Results'!$E11 -> 0.296 | J11: ='Museum Results'!$F11 -> 279 | K11: =I11-E11 -> 0.094 | P11: 0.196 | Q11: 1881 | R11: =P11-$B11 -> -0.024 | T11: ='Museum Results'!$E11 -> 0.296 | U11: ='Museum Results'!$F11 -> 279 | V11: =T11-P11 -> 0.1
A12: Answer Choice 4 | B12: 0.176 | C12: 15912 | E12: 0.151 | F12: 5886 | G12: =E12-$B12 -> -0.025 | I12: ='Museum Results'!$E12 -> 0.139 | J12: ='Museum Results'!$F12 -> 131 | K12: =I12-E12 -> -0.012 | P12: 0.134 | Q12: 1293 | R12: =P12-$B12 -> -0.042 | T12: ='Museum Results'!$E12 -> 0.139 | U12: ='Museum Results'!$F12 -> 131 | V12: =T12-P12 -> 0.005
A13: Answer Choice 5 | B13: 0.03 | C13: 2721 | E13: 0.021 | F13: 801 | G13: =E13-$B13 -> -0.009 | I13: ='Museum Results'!$E13 -> 0.016 | J13: ='Museum Results'!$F13 -> 15 | K13: =I13-E13 -> -0.005 | P13: 0.015 | Q13: 141 | R13: =P13-$B13 -> -0.015 | T13: ='Museum Results'!$E13 -> 0.016 | U13: ='Museum Results'!$F13 -> 15 | V13: =T13-P13 -> 0.001
B14: Totals | C14: 90178 | E14: Totals | F14: 38947 | I14: ='Museum Results'!$E14 -> Totals | J14: ='Museum Results'!$F14 -> 941 | P14: Totals | Q14: 9616 | T14: ='Museum Results'!$E14 -> Totals | U14: ='Museum Results'!$F14 -> 941
A17: 2.Question Text
A18: Value | B18: Percent | C18: Count | E18: Percent | F18: Count | G18: Difference | I18: Percent | J18: Count | K18: Difference | P18: Percent | Q18: Count | R18: Difference | T18: Percent | U18: Count | V18: Difference
A19: Answer Choice 1 | B19: 0.514 | C19: 46153 | E19: 0.587 | F19: 22773 | G19: =E19-$B19 -> 0.073 | I19: ='Museum Results'!$E19 -> 0.529 | J19: ='Museum Results'!$F19 -> 496 | K19: =I19-E19 -> -0.058 | P19: 0.611 | Q19: 5861 | R19: =P19-$B19 -> 0.097 | T19: ='Museum Results'!$E19 -> 0.529 | U19: ='Museum Results'!$F19 -> 496 | V19: =T19-P19 -> -0.082
A20: Answer Choice 2 | B20: 0.182 | C20: 16340 | E20: 0.098 | F20: 3789 | G20: =E20-$B20 -> -0.084 | I20: ='Museum Results'!$E20 -> 0.028 | J20: ='Museum Results'!$F20 -> 26 | K20: =I20-E20 -> -0.07 | P20: 0.111 | Q20: 1065 | R20: =P20-$B20 -> -0.071 | T20: ='Museum Results'!$E20 -> 0.028 | U20: ='Museum Results'!$F20 -> 26 | V20: =T20-P20 -> -0.083
A21: Answer Choice 3 | B21: 0.214 | C21: 19198 | E21: 0.242 | F21: 9381 | G21: =E21-$B21 -> 0.028 | I21: ='Museum Results'!$E21 -> 0.239 | J21: ='Museum Results'!$F21 -> 224 | K21: =I21-E21 -> -0.003 | P21: 0.243 | Q21: 2329 | R21: =P21-$B21 -> 0.029 | T21: ='Museum Results'!$E21 -> 0.239 | U21: ='Museum Results'!$F21 -> 224 | V21: =T21-P21 -> -0.004
A22: Answer Choice 4 | B22: 0.287 | C22: 25759 | E22: 0.234 | F22: 9084 | G22: =E22-$B22 -> -0.053 | I22: ='Museum Results'!$E22 -> 0.125 | J22: ='Museum Results'!$F22 -> 117 | K22: =I22-E22 -> -0.109 | P22: 0.256 | Q22: 2454 | R22: =P22-$B22 -> -0.031 | T22: ='Museum Results'!$E22 -> 0.125 | U22: ='Museum Results'!$F22 -> 117 | V22: =T22-P22 -> -0.131
A23: Answer Choice 5 | B23: 0.526 | C23: 47161 | E23: 0.594 | F23: 23047 | G23: =E23-$B23 -> 0.068 | I23: ='Museum Results'!$E23 -> 0.644 | J23: ='Museum Results'!$F23 -> 603 | K23: =I23-E23 -> 0.05 | P23: 0.581 | Q23: 5576 | R23: =P23-$B23 -> 0.055 | T23: ='Museum Results'!$E23 -> 0.644 | U23: ='Museum Results'!$F23 -> 603 | V23: =T23-P23 -> 0.063
A24: Answer Choice 6 | B24: 0.369 | C24: 33144 | E24: 0.445 | F24: 17262 | G24: =E24-$B24 -> 0.076 | I24: ='Museum Results'!$E24 -> 0.449 | J24: ='Museum Results'!$F24 -> 421 | K24: =I24-E24 -> 0.004 | P24: 0.452 | Q24: 4341 | R24: =P24-$B24 -> 0.083 | T24: ='Museum Results'!$E24 -> 0.449 | U24: ='Museum Results'!$F24 -> 421 | V24: =T24-P24 -> -0.003
A25: Answer Choice 7 | B25: 0.116 | C25: 10384 | E25: 0.044 | F25: 1726 | G25: =E25-$B25 -> -0.072 | I25: ='Museum Results'!$E25 -> 0.006 | J25: ='Museum Results'!$F25 -> 6 | K25: =I25-E25 -> -0.038 | P25: 0.056 | Q25: 538 | R25: =P25-$B25 -> -0.06 | T25: ='Museum Results'!$E25 -> 0.006 | U25: ='Museum Results'!$F25 -> 6 | V25: =T25-P25 -> -0.05
A26: Answer Choice 8 | B26: 0.318 | C26: 28502 | E26: 0.298 | F26: 11573 | G26: =E26-$B26 -> -0.02 | I26: ='Museum Results'!$E26 -> 0.256 | J26: ='Museum Results'!$F26 -> 240 | K26: =I26-E26 -> -0.042 | P26: 0.308 | Q26: 2955 | R26: =P26-$B26 -> -0.01 | T26: ='Museum Results'!$E26 -> 0.256 | U26: ='Museum Results'!$F26 -> 240 | V26: =T26-P26 -> -0.052
A27: Answer Choice 9 | B27: 0.344 | C27: 30901 | E27: 0.383 | F27: 14876 | G27: =E27-$B27 -> 0.039 | I27: ='Museum Results'!$E27 -> 0.4 | J27: ='Museum Results'!$F27 -> 375 | K27: =I27-E27 -> 0.017 | P27: 0.371 | Q27: 3562 | R27: =P27-$B27 -> 0.027 | T27: ='Museum Results'!$E27 -> 0.4 | U27: ='Museum Results'!$F27 -> 375 | V27: =T27-P27 -> 0.029
A28: None of these | B28: 0.012 | C28: 1080 | E28: 0.012 | F28: 451 | G28: =E28-$B28 -> 0 | I28: ='Museum Results'!$E28 -> 0.009 | J28: ='Museum Results'!$F28 -> 8 | K28: =I28-E28 -> -0.003 | P28: 0.009 | Q28: 86 | R28: =P28-$B28 -> -0.003 | T28: ='Museum Results'!$E28 -> 0.009 | U28: ='Museum Results'!$F28 -> 8 | V28: =T28-P28 -> 0
A29: Other - please specify | B29: 0.129 | C29: 11564 | E29: 0.134 | F29: 5196 | G29: =E29-$B29 -> 0.005 | I29: ='Museum Results'!$E29 -> 0.172 | J29: ='Museum Results'!$F29 -> 161 | K29: =I29-E29 -> 0.038 | P29: 0.13 | Q29: 1246 | R29: =P29-$B29 -> 0.001 | T29: ='Museum Results'!$E29 -> 0.172 | U29: ='Museum Results'!$F29 -> 161 | V29: =T29-P29 -> 0.042
A32: 3.Question Text
A33: Value | B33: Percent | C33: Count | E33: Percent | F33: Count | G33: Difference | I33: Percent | J33: Count | K33: Difference | P33: Percent | Q33: Count | R33: Difference | T33: Percent | U33: Count | V33: Difference
A34: Answer Choice 1 | B34: 0.006 | C34: 322 | E34: 0.006 | F34: 212 | G34: =E34-$B34 -> 0 | I34: ='Museum Results'!$E34 -> 0.004 | J34: ='Museum Results'!$F34 -> 4 | K34: =I34-E34 -> -0.002 | P34: 0.006 | Q34: 57 | R34: =P34-$B34 -> 0 | T34: ='Museum Results'!$E34 -> 0.004 | U34: ='Museum Results'!$F34 -> 4 | V34: =T34-P34 -> -0.002
A35: Answer Choice 2 | B35: 0.651 | C35: 32518 | E35: 0.666 | F35: 24691 | G35: =E35-$B35 -> 0.015 | I35: ='Museum Results'!$E35 -> 0.767 | J35: ='Museum Results'!$F35 -> 691 | K35: =I35-E35 -> 0.101 | P35: 0.656 | Q35: 6070 | R35: =P35-$B35 -> 0.005 | T35: ='Museum Results'!$E35 -> 0.767 | U35: ='Museum Results'!$F35 -> 691 | V35: =T35-P35 -> 0.111
A36: Answer Choice 3 | B36: 0.31 | C36: 15499 | E36: 0.255 | F36: 9445 | G36: =E36-$B36 -> -0.055 | I36: ='Museum Results'!$E36 -> 0.144 | J36: ='Museum Results'!$F36 -> 130 | K36: =I36-E36 -> -0.111 | P36: 0.271 | Q36: 2504 | R36: =P36-$B36 -> -0.039 | T36: ='Museum Results'!$E36 -> 0.144 | U36: ='Museum Results'!$F36 -> 130 | V36: =T36-P36 -> -0.127
A37: Answer Choice 4 | B37: 0.204 | C37: 10185 | E37: 0.13 | F37: 4839 | G37: =E37-$B37 -> -0.074 | I37: ='Museum Results'!$E37 -> 0.121 | J37: ='Museum Results'!$F37 -> 109 | K37: =I37-E37 -> -0.009 | P37: 0.119 | Q37: 1098 | R37: =P37-$B37 -> -0.085 | T37: ='Museum Results'!$E37 -> 0.121 | U37: ='Museum Results'!$F37 -> 109 | V37: =T37-P37 -> 0.002
A38: Answer Choice 5 | B38: 0.409 | C38: 20438 | E38: 0.345 | F38: 12814 | G38: =E38-$B38 -> -0.064 | I38: ='Museum Results'!$E38 -> 0.21 | J38: ='Museum Results'!$F38 -> 189 | K38: =I38-E38 -> -0.135 | P38: 0.409 | Q38: 3787 | R38: =P38-$B38 -> 0 | T38: ='Museum Results'!$E38 -> 0.21 | U38: ='Museum Results'!$F38 -> 189 | V38: =T38-P38 -> -0.199
A39: Answer Choice 6 | B39: 0.066 | C39: 3280 | E39: 0.023 | F39: 865 | G39: =E39-$B39 -> -0.043 | I39: ='Museum Results'!$E39 -> 0.003 | J39: ='Museum Results'!$F39 -> 3 | K39: =I39-E39 -> -0.02 | P39: 0.029 | Q39: 264 | R39: =P39-$B39 -> -0.037 | T39: ='Museum Results'!$E39 -> 0.003 | U39: ='Museum Results'!$F39 -> 3 | V39: =T39-P39 -> -0.026
A40: Answer Choice 7 | B40: 0.146 | C40: 7273 | E40: 0.144 | F40: 5352 | G40: =E40-$B40 -> -0.002 | I40: ='Museum Results'!$E40 -> 0.04 | J40: ='Museum Results'!$F40 -> 36 | K40: =I40-E40 -> -0.104 | P40: 0.147 | Q40: 1362 | R40: =P40-$B40 -> 0.001 | T40: ='Museum Results'!$E40 -> 0.04 | U40: ='Museum Results'!$F40 -> 36 | V40: =T40-P40 -> -0.107
A41: Answer Choice 8 | B41: 0.506 | C41: 25254 | E41: 0.56 | F41: 20769 | G41: =E41-$B41 -> 0.054 | I41: ='Museum Results'!$E41 -> 0.422 | J41: ='Museum Results'!$F41 -> 380 | K41: =I41-E41 -> -0.138 | P41: 0.588 | Q41: 5440 | R41: =P41-$B41 -> 0.082 | T41: ='Museum Results'!$E41 -> 0.422 | U41: ='Museum Results'!$F41 -> 380 | V41: =T41-P41 -> -0.166
A42: Answer Choice 9 | B42: 0.39 | C42: 19491 | E42: 0.385 | F42: 14288 | G42: =E42-$B42 -> -0.005 | I42: ='Museum Results'!$E42 -> 0.388 | J42: ='Museum Results'!$F42 -> 350 | K42: =I42-E42 -> 0.003 | P42: 0.384 | Q42: 3549 | R42: =P42-$B42 -> -0.006 | T42: ='Museum Results'!$E42 -> 0.388 | U42: ='Museum Results'!$F42 -> 350 | V42: =T42-P42 -> 0.004
A43: None of these | B43: 0.015 | C43: 736 | E43: 0.017 | F43: 613 | G43: =E43-$B43 -> 0.002 | I43: ='Museum Results'!$E43 -> 0.02 | J43: ='Museum Results'!$F43 -> 18 | K43: =I43-E43 -> 0.003 | P43: 0.014 | Q43: 130 | R43: =P43-$B43 -> -0.001 | T43: ='Museum Results'!$E43 -> 0.02 | U43: ='Museum Results'!$F43 -> 18 | V43: =T43-P43 -> 0.006
A44: Other - please specify | B44: 0.089 | C44: 4467 | E44: 0.091 | F44: 3363 | G44: =E44-$B44 -> 0.002 | I44: ='Museum Results'!$E44 -> 0.121 | J44: ='Museum Results'!$F44 -> 109 | K44: =I44-E44 -> 0.03 | P44: 0.082 | Q44: 760 | R44: =P44-$B44 -> -0.007 | T44: ='Museum Results'!$E44 -> 0.121 | U44: ='Museum Results'!$F44 -> 109 | V44: =T44-P44 -> 0.039
A48: Topline and aggregate results © 2026 Wilkening Consulting, LLC
A51: Find out more about Data Cuts that are provided for free as part of your enrollment in the Annual Survey of Museum-Goers

Sheet Design or Dec Arts
A1: Example Survey Results – For Demonstration Purposes Only
A2: Peer Group tabs (also known as "Data Cuts") compare your museum's results to those of similar museum types, budgets, and/or geography
A3: Standard Report for Crosstabs/Topline | B3: Back to Museum Results Tab | E3: Decorative arts | G3: vs. overall results | I3: ='Museum Results'!$E3 -> Wilkening Pottery Museum | K3: vs. this peer group | M3: Decorative arts
A4: 2026 Annual Survey of Museum-Goers | M4: 22 museums
M5: Museums include:
M6: A list of musuems included in this Data Cut will be provided here in this column
A7: 1.Question Text
A8: Value | B8: Percent | C8: Count | E8: Percent | F8: Count | G8: Difference | I8: Percent | J8: Count | K8: Difference
A9: Answer Choice 1 | B9: 0.284 | C9: 25630 | E9: 0.308 | F9: 2909 | G9: =E9-$B9 -> 0.024 | I9: ='Museum Results'!$E9 -> 0.24 | J9: ='Museum Results'!$F9 -> 226 | K9: =I9-E9 -> -0.068
A10: Answer Choice 2 | B10: 0.289 | C10: 26086 | E10: 0.31 | F10: 2930 | G10: =E10-$B10 -> 0.021 | I10: ='Museum Results'!$E10 -> 0.308 | J10: ='Museum Results'!$F10 -> 290 | K10: =I10-E10 -> -0.002
A11: Answer Choice 3 | B11: 0.22 | C11: 19829 | E11: 0.202 | F11: 1908 | G11: =E11-$B11 -> -0.018 | I11: ='Museum Results'!$E11 -> 0.296 | J11: ='Museum Results'!$F11 -> 279 | K11: =I11-E11 -> 0.094
A12: Answer Choice 4 | B12: 0.176 | C12: 15912 | E12: 0.162 | F12: 1531 | G12: =E12-$B12 -> -0.014 | I12: ='Museum Results'!$E12 -> 0.139 | J12: ='Museum Results'!$F12 -> 131 | K12: =I12-E12 -> -0.023
A13: Answer Choice 5 | B13: 0.03 | C13: 2721 | E13: 0.018 | F13: 167 | G13: =E13-$B13 -> -0.012 | I13: ='Museum Results'!$E13 -> 0.016 | J13: ='Museum Results'!$F13 -> 15 | K13: =I13-E13 -> -0.002
B14: Totals | C14: 90178 | E14: Totals | F14: 9445 | I14: ='Museum Results'!$E14 -> Totals | J14: ='Museum Results'!$F14 -> 941
A17: 2.Question Text
A18: Value | B18: Percent | C18: Count | E18: Percent | F18: Count | G18: Difference | I18: Percent | J18: Count | K18: Difference
A19: Answer Choice 1 | B19: 0.514 | C19: 46153 | E19: 0.602 | F19: 5670 | G19: =E19-$B19 -> 0.088 | I19: ='Museum Results'!$E19 -> 0.529 | J19: ='Museum Results'!$F19 -> 496 | K19: =I19-E19 -> -0.073
A20: Answer Choice 2 | B20: 0.182 | C20: 16340 | E20: 0.079 | F20: 747 | G20: =E20-$B20 -> -0.103 | I20: ='Museum Results'!$E20 -> 0.028 | J20: ='Museum Results'!$F20 -> 26 | K20: =I20-E20 -> -0.051
A21: Answer Choice 3 | B21: 0.214 | C21: 19198 | E21: 0.261 | F21: 2459 | G21: =E21-$B21 -> 0.047 | I21: ='Museum Results'!$E21 -> 0.239 | J21: ='Museum Results'!$F21 -> 224 | K21: =I21-E21 -> -0.022
A22: Answer Choice 4 | B22: 0.287 | C22: 25759 | E22: 0.244 | F22: 2298 | G22: =E22-$B22 -> -0.043 | I22: ='Museum Results'!$E22 -> 0.125 | J22: ='Museum Results'!$F22 -> 117 | K22: =I22-E22 -> -0.119
A23: Answer Choice 5 | B23: 0.526 | C23: 47161 | E23: 0.589 | F23: 5541 | G23: =E23-$B23 -> 0.063 | I23: ='Museum Results'!$E23 -> 0.644 | J23: ='Museum Results'!$F23 -> 603 | K23: =I23-E23 -> 0.055
A24: Answer Choice 6 | B24: 0.369 | C24: 33144 | E24: 0.426 | F24: 4006 | G24: =E24-$B24 -> 0.057 | I24: ='Museum Results'!$E24 -> 0.449 | J24: ='Museum Results'!$F24 -> 421 | K24: =I24-E24 -> 0.023
A25: Answer Choice 7 | B25: 0.116 | C25: 10384 | E25: 0.035 | F25: 330 | G25: =E25-$B25 -> -0.081 | I25: ='Museum Results'!$E25 -> 0.006 | J25: ='Museum Results'!$F25 -> 6 | K25: =I25-E25 -> -0.029
A26: Answer Choice 8 | B26: 0.318 | C26: 28502 | E26: 0.286 | F26: 2693 | G26: =E26-$B26 -> -0.032 | I26: ='Museum Results'!$E26 -> 0.256 | J26: ='Museum Results'!$F26 -> 240 | K26: =I26-E26 -> -0.03
A27: Answer Choice 9 | B27: 0.344 | C27: 30901 | E27: 0.404 | F27: 3804 | G27: =E27-$B27 -> 0.06 | I27: ='Museum Results'!$E27 -> 0.4 | J27: ='Museum Results'!$F27 -> 375 | K27: =I27-E27 -> -0.004
A28: None of these | B28: 0.012 | C28: 1080 | E28: 0.009 | F28: 89 | G28: =E28-$B28 -> -0.003 | I28: ='Museum Results'!$E28 -> 0.009 | J28: ='Museum Results'!$F28 -> 8 | K28: =I28-E28 -> 0
A29: Other - please specify | B29: 0.129 | C29: 11564 | E29: 0.133 | F29: 1255 | G29: =E29-$B29 -> 0.004 | I29: ='Museum Results'!$E29 -> 0.172 | J29: ='Museum Results'!$F29 -> 161 | K29: =I29-E29 -> 0.039
A32: 3.Question Text
A33: Value | B33: Percent | C33: Count | E33: Percent | F33: Count | G33: Difference | I33: Percent | J33: Count | K33: Difference
A34: Answer Choice 1 | B34: 0.006 | C34: 322 | E34: 0.003 | F34: 31 | G34: =E34-$B34 -> -0.003 | I34: ='Museum Results'!$E34 -> 0.004 | J34: ='Museum Results'!$F34 -> 4 | K34: =I34-E34 -> 0.001
A35: Answer Choice 2 | B35: 0.651 | C35: 32518 | E35: 0.669 | F35: 6020 | G35: =E35-$B35 -> 0.018 | I35: ='Museum Results'!$E35 -> 0.767 | J35: ='Museum Results'!$F35 -> 691 | K35: =I35-E35 -> 0.098
A36: Answer Choice 3 | B36: 0.31 | C36: 15499 | E36: 0.264 | F36: 2376 | G36: =E36-$B36 -> -0.046 | I36: ='Museum Results'!$E36 -> 0.144 | J36: ='Museum Results'!$F36 -> 130 | K36: =I36-E36 -> -0.12
A37: Answer Choice 4 | B37: 0.204 | C37: 10185 | E37: 0.132 | F37: 1185 | G37: =E37-$B37 -> -0.072 | I37: ='Museum Results'!$E37 -> 0.121 | J37: ='Museum Results'!$F37 -> 109 | K37: =I37-E37 -> -0.011
A38: Answer Choice 5 | B38: 0.409 | C38: 20438 | E38: 0.354 | F38: 3185 | G38: =E38-$B38 -> -0.055 | I38: ='Museum Results'!$E38 -> 0.21 | J38: ='Museum Results'!$F38 -> 189 | K38: =I38-E38 -> -0.144
A39: Answer Choice 6 | B39: 0.066 | C39: 3280 | E39: 0.018 | F39: 163 | G39: =E39-$B39 -> -0.048 | I39: ='Museum Results'!$E39 -> 0.003 | J39: ='Museum Results'!$F39 -> 3 | K39: =I39-E39 -> -0.015
A40: Answer Choice 7 | B40: 0.146 | C40: 7273 | E40: 0.117 | F40: 1054 | G40: =E40-$B40 -> -0.029 | I40: ='Museum Results'!$E40 -> 0.04 | J40: ='Museum Results'!$F40 -> 36 | K40: =I40-E40 -> -0.077
A41: Answer Choice 8 | B41: 0.506 | C41: 25254 | E41: 0.533 | F41: 4796 | G41: =E41-$B41 -> 0.027 | I41: ='Museum Results'!$E41 -> 0.422 | J41: ='Museum Results'!$F41 -> 380 | K41: =I41-E41 -> -0.111
A42: Answer Choice 9 | B42: 0.39 | C42: 19491 | E42: 0.404 | F42: 3634 | G42: =E42-$B42 -> 0.014 | I42: ='Museum Results'!$E42 -> 0.388 | J42: ='Museum Results'!$F42 -> 350 | K42: =I42-E42 -> -0.016
A43: None of these | B43: 0.015 | C43: 736 | E43: 0.014 | F43: 124 | G43: =E43-$B43 -> -0.001 | I43: ='Museum Results'!$E43 -> 0.02 | J43: ='Museum Results'!$F43 -> 18 | K43: =I43-E43 -> 0.006
A44: Other - please specify | B44: 0.089 | C44: 4467 | E44: 0.108 | F44: 975 | G44: =E44-$B44 -> 0.019 | I44: ='Museum Results'!$E44 -> 0.121 | J44: ='Museum Results'!$F44 -> 109 | K44: =I44-E44 -> 0.013
A47: Topline and aggregate results © 2026 Wilkening Consulting, LLC
A50: Find out more about Data Cuts that are provided for free as part of your enrollment in the Annual Survey of Museum-Goers

Sheet U.S. Regions
A1: Example Survey Results – For Demonstration Purposes Only
A2: Peer Group tabs (also known as "Data Cuts") compare your museum's results to those of similar museum types, budgets, and/or geography
A3: Standard Report for Crosstabs/Topline | B3: Back to Museum Results Tab | E3: Western (WMA) - AK, AR, CA, HI, ID, NV, OR, UT, WA | G3: vs. overall results | I3: ='Museum Results'!$E3 -> Wilkening Pottery Museum | K3: vs. this peer group | M3: Western (WMA)
A4: 2026 Annual Survey of Museum-Goers | M4: 30 museums
M5: Museums include:
M6: A list of musuems included in this Data Cut will be provided here in this column
A7: 1.Question Text
A8: Value | B8: Percent | C8: Count | E8: Percent | F8: Count | G8: Difference | I8: Percent | J8: Count | K8: Difference
A9: Answer Choice 1 | B9: 0.284 | C9: 25630 | E9: 0.196 | F9: 2448 | G9: =E9-$B9 -> -0.088 | I9: ='Museum Results'!$E9 -> 0.24 | J9: ='Museum Results'!$F9 -> 226 | K9: =I9-E9 -> 0.044
A10: Answer Choice 2 | B10: 0.289 | C10: 26086 | E10: 0.264 | F10: 3288 | G10: =E10-$B10 -> -0.025 | I10: ='Museum Results'!$E10 -> 0.308 | J10: ='Museum Results'!$F10 -> 290 | K10: =I10-E10 -> 0.044
A11: Answer Choice 3 | B11: 0.22 | C11: 19829 | E11: 0.251 | F11: 3134 | G11: =E11-$B11 -> 0.031 | I11: ='Museum Results'!$E11 -> 0.296 | J11: ='Museum Results'!$F11 -> 279 | K11: =I11-E11 -> 0.045
A12: Answer Choice 4 | B12: 0.176 | C12: 15912 | E12: 0.238 | F12: 2965 | G12: =E12-$B12 -> 0.062 | I12: ='Museum Results'!$E12 -> 0.139 | J12: ='Museum Results'!$F12 -> 131 | K12: =I12-E12 -> -0.099
A13: Answer Choice 5 | B13: 0.03 | C13: 2721 | E13: 0.051 | F13: 638 | G13: =E13-$B13 -> 0.021 | I13: ='Museum Results'!$E13 -> 0.016 | J13: ='Museum Results'!$F13 -> 15 | K13: =I13-E13 -> -0.035
B14: Totals | C14: 90178 | E14: Totals | F14: 12473 | I14: ='Museum Results'!$E14 -> Totals | J14: ='Museum Results'!$F14 -> 941
A17: 2.Question Text
A18: Value | B18: Percent | C18: Count | E18: Percent | F18: Count | G18: Difference | I18: Percent | J18: Count | K18: Difference
A19: Answer Choice 1 | B19: 0.514 | C19: 46153 | E19: 0.486 | F19: 6022 | G19: =E19-$B19 -> -0.028 | I19: ='Museum Results'!$E19 -> 0.529 | J19: ='Museum Results'!$F19 -> 496 | K19: =I19-E19 -> 0.043
A20: Answer Choice 2 | B20: 0.182 | C20: 16340 | E20: 0.172 | F20: 2133 | G20: =E20-$B20 -> -0.01 | I20: ='Museum Results'!$E20 -> 0.028 | J20: ='Museum Results'!$F20 -> 26 | K20: =I20-E20 -> -0.144
A21: Answer Choice 3 | B21: 0.214 | C21: 19198 | E21: 0.196 | F21: 2424 | G21: =E21-$B21 -> -0.018 | I21: ='Museum Results'!$E21 -> 0.239 | J21: ='Museum Results'!$F21 -> 224 | K21: =I21-E21 -> 0.043
A22: Answer Choice 4 | B22: 0.287 | C22: 25759 | E22: 0.288 | F22: 3573 | G22: =E22-$B22 -> 0.001 | I22: ='Museum Results'!$E22 -> 0.125 | J22: ='Museum Results'!$F22 -> 117 | K22: =I22-E22 -> -0.163
A23: Answer Choice 5 | B23: 0.526 | C23: 47161 | E23: 0.53 | F23: 6565 | G23: =E23-$B23 -> 0.004 | I23: ='Museum Results'!$E23 -> 0.644 | J23: ='Museum Results'!$F23 -> 603 | K23: =I23-E23 -> 0.114
A24: Answer Choice 6 | B24: 0.369 | C24: 33144 | E24: 0.343 | F24: 4251 | G24: =E24-$B24 -> -0.026 | I24: ='Museum Results'!$E24 -> 0.449 | J24: ='Museum Results'!$F24 -> 421 | K24: =I24-E24 -> 0.106
A25: Answer Choice 7 | B25: 0.116 | C25: 10384 | E25: 0.108 | F25: 1339 | G25: =E25-$B25 -> -0.008 | I25: ='Museum Results'!$E25 -> 0.006 | J25: ='Museum Results'!$F25 -> 6 | K25: =I25-E25 -> -0.102
A26: Answer Choice 8 | B26: 0.318 | C26: 28502 | E26: 0.329 | F26: 4080 | G26: =E26-$B26 -> 0.011 | I26: ='Museum Results'!$E26 -> 0.256 | J26: ='Museum Results'!$F26 -> 240 | K26: =I26-E26 -> -0.073
A27: Answer Choice 9 | B27: 0.344 | C27: 30901 | E27: 0.303 | F27: 3756 | G27: =E27-$B27 -> -0.041 | I27: ='Museum Results'!$E27 -> 0.4 | J27: ='Museum Results'!$F27 -> 375 | K27: =I27-E27 -> 0.097
A28: None of these | B28: 0.012 | C28: 1080 | E28: 0.02 | F28: 245 | G28: =E28-$B28 -> 0.008 | I28: ='Museum Results'!$E28 -> 0.009 | J28: ='Museum Results'!$F28 -> 8 | K28: =I28-E28 -> -0.011
A29: Other - please specify | B29: 0.129 | C29: 11564 | E29: 0.129 | F29: 1603 | G29: =E29-$B29 -> 0 | I29: ='Museum Results'!$E29 -> 0.172 | J29: ='Museum Results'!$F29 -> 161 | K29: =I29-E29 -> 0.043
A32: 3.Question Text
A33: Value | B33: Percent | C33: Count | E33: Percent | F33: Count | G33: Difference | I33: Percent | J33: Count | K33: Difference
A34: Answer Choice 1 | B34: 0.006 | C34: 322 | E34: 0.006 | F34: 73 | G34: =E34-$B34 -> 0 | I34: ='Museum Results'!$E34 -> 0.004 | J34: ='Museum Results'!$F34 -> 4 | K34: =I34-E34 -> -0.002
A35: Answer Choice 2 | B35: 0.651 | C35: 32518 | E35: 0.643 | F35: 7495 | G35: =E35-$B35 -> -0.008 | I35: ='Museum Results'!$E35 -> 0.767 | J35: ='Museum Results'!$F35 -> 691 | K35: =I35-E35 -> 0.124
A36: Answer Choice 3 | B36: 0.31 | C36: 15499 | E36: 0.272 | F36: 3168 | G36: =E36-$B36 -> -0.038 | I36: ='Museum Results'!$E36 -> 0.144 | J36: ='Museum Results'!$F36 -> 130 | K36: =I36-E36 -> -0.128
A37: Answer Choice 4 | B37: 0.204 | C37: 10185 | E37: 0.181 | F37: 2105 | G37: =E37-$B37 -> -0.023 | I37: ='Museum Results'!$E37 -> 0.121 | J37: ='Museum Results'!$F37 -> 109 | K37: =I37-E37 -> -0.06
A38: Answer Choice 5 | B38: 0.409 | C38: 20438 | E38: 0.371 | F38: 4321 | G38: =E38-$B38 -> -0.038 | I38: ='Museum Results'!$E38 -> 0.21 | J38: ='Museum Results'!$F38 -> 189 | K38: =I38-E38 -> -0.161
A39: Answer Choice 6 | B39: 0.066 | C39: 3280 | E39: 0.045 | F39: 527 | G39: =E39-$B39 -> -0.021 | I39: ='Museum Results'!$E39 -> 0.003 | J39: ='Museum Results'!$F39 -> 3 | K39: =I39-E39 -> -0.042
A40: Answer Choice 7 | B40: 0.146 | C40: 7273 | E40: 0.095 | F40: 1108 | G40: =E40-$B40 -> -0.051 | I40: ='Museum Results'!$E40 -> 0.04 | J40: ='Museum Results'!$F40 -> 36 | K40: =I40-E40 -> -0.055
A41: Answer Choice 8 | B41: 0.506 | C41: 25254 | E41: 0.353 | F41: 4116 | G41: =E41-$B41 -> -0.153 | I41: ='Museum Results'!$E41 -> 0.422 | J41: ='Museum Results'!$F41 -> 380 | K41: =I41-E41 -> 0.069
A42: Answer Choice 9 | B42: 0.39 | C42: 19491 | E42: 0.366 | F42: 4261 | G42: =E42-$B42 -> -0.024 | I42: ='Museum Results'!$E42 -> 0.388 | J42: ='Museum Results'!$F42 -> 350 | K42: =I42-E42 -> 0.022
A43: None of these | B43: 0.015 | C43: 736 | E43: 0.021 | F43: 244 | G43: =E43-$B43 -> 0.006 | I43: ='Museum Results'!$E43 -> 0.02 | J43: ='Museum Results'!$F43 -> 18 | K43: =I43-E43 -> -0.001
A44: Other - please specify | B44: 0.089 | C44: 4467 | E44: 0.087 | F44: 1014 | G44: =E44-$B44 -> -0.002 | I44: ='Museum Results'!$E44 -> 0.121 | J44: ='Museum Results'!$F44 -> 109 | K44: =I44-E44 -> 0.034
A49: Topline and aggregate results © 2026 Wilkening Consulting, LLC
A52: Find out more about Data Cuts that are provided for free as part of your enrollment in the Annual Survey of Museum-Goers

Sheet City
A1: Example Survey Results – For Demonstration Purposes Only
A2: Peer Group tabs (also known as "Data Cuts") compare your museum's results to those of similar museum types, budgets, and/or geography
A3: Standard Report for Crosstabs/Topline | B3: Back to Museum Results Tab | E3: Seattle | G3: vs. overall results | I3: ='Museum Results'!$E3 -> Wilkening Pottery Museum | K3: vs. this peer group | M3: Seattle
A4: 2026 Annual Survey of Museum-Goers | M4: 8 museums
M5: Museums include:
M6: A list of musuems included in this Data Cut will be provided here in this column
A7: 1.Question Text
A8: Value | B8: Percent | C8: Count | E8: Percent | F8: Count | G8: Difference | I8: Percent | J8: Count | K8: Difference
A9: Answer Choice 1 | B9: 0.284 | C9: 25630 | E9: 0.252 | F9: 1123 | G9: =E9-$B9 -> -0.032 | I9: ='Museum Results'!$E9 -> 0.24 | J9: ='Museum Results'!$F9 -> 226 | K9: =I9-E9 -> -0.012
A10: Answer Choice 2 | B10: 0.289 | C10: 26086 | E10: 0.247 | F10: 1100 | G10: =E10-$B10 -> -0.042 | I10: ='Museum Results'!$E10 -> 0.308 | J10: ='Museum Results'!$F10 -> 290 | K10: =I10-E10 -> 0.061
A11: Answer Choice 3 | B11: 0.22 | C11: 19829 | E11: 0.202 | F11: 900 | G11: =E11-$B11 -> -0.018 | I11: ='Museum Results'!$E11 -> 0.296 | J11: ='Museum Results'!$F11 -> 279 | K11: =I11-E11 -> 0.094
A12: Answer Choice 4 | B12: 0.176 | C12: 15912 | E12: 0.244 | F12: 1087 | G12: =E12-$B12 -> 0.068 | I12: ='Museum Results'!$E12 -> 0.139 | J12: ='Museum Results'!$F12 -> 131 | K12: =I12-E12 -> -0.105
A13: Answer Choice 5 | B13: 0.03 | C13: 2721 | E13: 0.054 | F13: 241 | G13: =E13-$B13 -> 0.024 | I13: ='Museum Results'!$E13 -> 0.016 | J13: ='Museum Results'!$F13 -> 15 | K13: =I13-E13 -> -0.038
B14: Totals | C14: 90178 | E14: Totals | F14: 4451 | I14: ='Museum Results'!$E14 -> Totals | J14: ='Museum Results'!$F14 -> 941
A17: 2.Question Text
A18: Value | B18: Percent | C18: Count | E18: Percent | F18: Count | G18: Difference | I18: Percent | J18: Count | K18: Difference
A19: Answer Choice 1 | B19: 0.514 | C19: 46153 | E19: 0.602 | F19: 2666 | G19: =E19-$B19 -> 0.088 | I19: ='Museum Results'!$E19 -> 0.529 | J19: ='Museum Results'!$F19 -> 496 | K19: =I19-E19 -> -0.073
A20: Answer Choice 2 | B20: 0.182 | C20: 16340 | E20: 0.06 | F20: 266 | G20: =E20-$B20 -> -0.122 | I20: ='Museum Results'!$E20 -> 0.028 | J20: ='Museum Results'!$F20 -> 26 | K20: =I20-E20 -> -0.032
A21: Answer Choice 3 | B21: 0.214 | C21: 19198 | E21: 0.221 | F21: 979 | G21: =E21-$B21 -> 0.007 | I21: ='Museum Results'!$E21 -> 0.239 | J21: ='Museum Results'!$F21 -> 224 | K21: =I21-E21 -> 0.018
A22: Answer Choice 4 | B22: 0.287 | C22: 25759 | E22: 0.151 | F22: 670 | G22: =E22-$B22 -> -0.136 | I22: ='Museum Results'!$E22 -> 0.125 | J22: ='Museum Results'!$F22 -> 117 | K22: =I22-E22 -> -0.026
A23: Answer Choice 5 | B23: 0.526 | C23: 47161 | E23: 0.639 | F23: 2829 | G23: =E23-$B23 -> 0.113 | I23: ='Museum Results'!$E23 -> 0.644 | J23: ='Museum Results'!$F23 -> 603 | K23: =I23-E23 -> 0.005
A24: Answer Choice 6 | B24: 0.369 | C24: 33144 | E24: 0.447 | F24: 1978 | G24: =E24-$B24 -> 0.078 | I24: ='Museum Results'!$E24 -> 0.449 | J24: ='Museum Results'!$F24 -> 421 | K24: =I24-E24 -> 0.002
A25: Answer Choice 7 | B25: 0.116 | C25: 10384 | E25: 0.02 | F25: 87 | G25: =E25-$B25 -> -0.096 | I25: ='Museum Results'!$E25 -> 0.006 | J25: ='Museum Results'!$F25 -> 6 | K25: =I25-E25 -> -0.014
A26: Answer Choice 8 | B26: 0.318 | C26: 28502 | E26: 0.271 | F26: 1202 | G26: =E26-$B26 -> -0.047 | I26: ='Museum Results'!$E26 -> 0.256 | J26: ='Museum Results'!$F26 -> 240 | K26: =I26-E26 -> -0.015
A27: Answer Choice 9 | B27: 0.344 | C27: 30901 | E27: 0.413 | F27: 1831 | G27: =E27-$B27 -> 0.069 | I27: ='Museum Results'!$E27 -> 0.4 | J27: ='Museum Results'!$F27 -> 375 | K27: =I27-E27 -> -0.013
A28: None of these | B28: 0.012 | C28: 1080 | E28: 0.013 | F28: 57 | G28: =E28-$B28 -> 0.001 | I28: ='Museum Results'!$E28 -> 0.009 | J28: ='Museum Results'!$F28 -> 8 | K28: =I28-E28 -> -0.004
A29: Other - please specify | B29: 0.129 | C29: 11564 | E29: 0.142 | F29: 627 | G29: =E29-$B29 -> 0.013 | I29: ='Museum Results'!$E29 -> 0.172 | J29: ='Museum Results'!$F29 -> 161 | K29: =I29-E29 -> 0.03
A32: 3.Question Text
A33: Value | B33: Percent | C33: Count | E33: Percent | F33: Count | G33: Difference | I33: Percent | J33: Count | K33: Difference
A34: Answer Choice 1 | B34: 0.006 | C34: 322 | E34: 0.004 | F34: 17 | G34: =E34-$B34 -> -0.002 | I34: ='Museum Results'!$E34 -> 0.004 | J34: ='Museum Results'!$F34 -> 4 | K34: =I34-E34 -> 0
A35: Answer Choice 2 | B35: 0.651 | C35: 32518 | E35: 0.686 | F35: 2874 | G35: =E35-$B35 -> 0.035 | I35: ='Museum Results'!$E35 -> 0.767 | J35: ='Museum Results'!$F35 -> 691 | K35: =I35-E35 -> 0.081
A36: Answer Choice 3 | B36: 0.31 | C36: 15499 | E36: 0.243 | F36: 1016 | G36: =E36-$B36 -> -0.067 | I36: ='Museum Results'!$E36 -> 0.144 | J36: ='Museum Results'!$F36 -> 130 | K36: =I36-E36 -> -0.099
A37: Answer Choice 4 | B37: 0.204 | C37: 10185 | E37: 0.244 | F37: 1022 | G37: =E37-$B37 -> 0.04 | I37: ='Museum Results'!$E37 -> 0.121 | J37: ='Museum Results'!$F37 -> 109 | K37: =I37-E37 -> -0.123
A38: Answer Choice 5 | B38: 0.409 | C38: 20438 | E38: 0.236 | F38: 990 | G38: =E38-$B38 -> -0.173 | I38: ='Museum Results'!$E38 -> 0.21 | J38: ='Museum Results'!$F38 -> 189 | K38: =I38-E38 -> -0.026
A39: Answer Choice 6 | B39: 0.066 | C39: 3280 | E39: 0.012 | F39: 50 | G39: =E39-$B39 -> -0.054 | I39: ='Museum Results'!$E39 -> 0.003 | J39: ='Museum Results'!$F39 -> 3 | K39: =I39-E39 -> -0.009
A40: Answer Choice 7 | B40: 0.146 | C40: 7273 | E40: 0.062 | F40: 261 | G40: =E40-$B40 -> -0.084 | I40: ='Museum Results'!$E40 -> 0.04 | J40: ='Museum Results'!$F40 -> 36 | K40: =I40-E40 -> -0.022
A41: Answer Choice 8 | B41: 0.506 | C41: 25254 | E41: 0.397 | F41: 1664 | G41: =E41-$B41 -> -0.109 | I41: ='Museum Results'!$E41 -> 0.422 | J41: ='Museum Results'!$F41 -> 380 | K41: =I41-E41 -> 0.025
A42: Answer Choice 9 | B42: 0.39 | C42: 19491 | E42: 0.317 | F42: 1327 | G42: =E42-$B42 -> -0.073 | I42: ='Museum Results'!$E42 -> 0.388 | J42: ='Museum Results'!$F42 -> 350 | K42: =I42-E42 -> 0.071
A43: None of these | B43: 0.015 | C43: 736 | E43: 0.018 | F43: 75 | G43: =E43-$B43 -> 0.003 | I43: ='Museum Results'!$E43 -> 0.02 | J43: ='Museum Results'!$F43 -> 18 | K43: =I43-E43 -> 0.002
A44: Other - please specify | B44: 0.089 | C44: 4467 | E44: 0.118 | F44: 496 | G44: =E44-$B44 -> 0.029 | I44: ='Museum Results'!$E44 -> 0.121 | J44: ='Museum Results'!$F44 -> 109 | K44: =I44-E44 -> 0.003
A48: Topline and aggregate results © 2026 Wilkening Consulting, LLC
A51: Find out more about Data Cuts that are provided for free as part of your enrollment in the Annual Survey of Museum-Goers

Sheet About your museum
A1: Example Survey Results – For Demonstration Purposes Only
A2: Written-in Comments tabs organize the written responses from your survey results into groupings based on the three primary parts of the Annual Survey: benchmark questions, demographic questions, and theme questions
A3: Why do you visit [name of your museum inserted here]? (Choose those most important to you. This can refer to when you have visited in person or virtually.) | D3: What does [name of your museum inserted here] do well? (Choose those most important to you.) | G3: What would improve [name of your museum inserted here]? (Choose those most important to you.) | J3: Back to Museum Results Tab
A4: Other - please specify | B4: Count | D4: Other - please specify | E4: Count | G4: Other - please specify | H4: Count
A5: Ceramics | B5: 2 | D5: I am grateful that WPM has opportunities to learn about art history and culture, from all around the world | E5: 1 | G5: I'd visit more often if the exhibits were different more often...I get tired of seeing some of the same pieces | H5: 1
A6: Just for fun, I used to have my own studio | B6: 1 | D6: its volunteers are well-traines. I always have good converstions when I'm there | E6: 1 | G6: Hands-on activities for kids, please! When my son has something to focus on, I feel like I can relax and focus on the art better myself. | H6: 1
A7: art classes | B7: 1 | D7: THE EXHIBITS! | E7: 1 | G7: Free admission ;) | H7: 1
A8: ceramics | B8: 1 | D8: Totals | E8: 3 | G8: Maybe an adults-only night? The observatory does this every first Friday and it's awesome | H8: 1
A9: I am an artist. I like to consume art alone and with my family. | B9: 1 | G9: Totals | H9: 4
A10: Totals | B10: 6

Sheet Custom Questions Add-On
A1: Example Survey Results – For Demonstration Purposes Only
A2: The Custom Questions Add-On allows you to ask your respondents up to 3 personalized questions that are unique to your museum
A3: What kinds of things do you enjoy doing when visiting Wilkening Pottery Museum? (Choose those most important to you.) | E3: How do you typically hear about events in your community? | I3: Back to Museum Results Tab
A4: Value | B4: Percent | C4: Count | E4: Responses | F4: Percent | G4: Count
A5: Viewing exhibits on my/our own | B5: 0.797 | C5: 188 | E5: Newspaper articles or calendars | F5: 0.252 | G5: 127
A6: Seeing original objects, such as artwork, artifacts, or specimens | B6: 0.593 | C6: 140 | E6: Posters or flyers in neighborhood/local businesses | F6: 0.274 | G6: 138
A7: Taking a guided tour | B7: 0.174 | C7: 41 | E7: Billboards or other signage | F7: 0.157 | G7: 79
A8: Casually talking with staff or docents | B8: 0.246 | C8: 58 | E8: Facebook | F8: 0.577 | G8: 290
A9: Watching videos or movies | B9: 0.174 | C9: 41 | E9: Instagram | F9: 0.28 | G9: 141
A10: Hands-on or interactive exhibits | B10: 0.839 | C10: 198 | E10: TikTok | F10: 0.221 | G10: 111
A11: Using my phone to access more information or apps | B11: 0.068 | C11: 16 | E11: Other social media | F11: 0.298 | G11: 150
A12: Using my phone to take and share pictures of my visit | B12: 0.347 | C12: 82 | E12: Podcasts | F12: 0.089 | G12: 45
A13: Attending after-hours events with food and drinks | B13: 0.212 | C13: 50 | E13: Emails from the organization sponsoring the event | F13: 0.26 | G13: 131
A14: Browsing the museum shop | B14: 0.322 | C14: 76 | E14: Mailings from the organization sponsoring the event | F14: 0.175 | G14: 88
A15: Attend a program, such as a class or lecture | B15: 0.275 | C15: 65 | E15: Online calendars of events | F15: 0.252 | G15: 127
A16: None of these | B16: 0 | C16: 0 | E16: Word-of-Mouth | F16: 0.61 | G16: 307
A17: Other - please specify | B17: 0.038 | C17: 5 | E17: Radio ads or underwriting | F17: 0.199 | G17: 100
E18: None of these | F18: 0.032 | G18: 16
E19: Other - please specify | F19: 0.012 | G19: 2
A20: Other - please specify | B20: Count
A21: Coffee...we always appreciate the cute coffee cart in the lobby. | B21: 1
A22: Exploring with my family. and teaching my children about the exhibits | B22: 1 | E22: Other - please specify | F22: Count
A23: Getting some much needed screen-free time!! | B23: 1 | E23: I heard about your workshops from the library | F23: 1
A24: Me and my wife use it as our date night spot a couple times a month. Just walking through the rooms and spending time together is enough for us | B24: 1 | E24: newsletter at the senior center. | F24: 1
A25: visiting with my elderly mom, she used to teach pottery classes at the local community college so she likes it | B25: 1 | E25: Totals | F25: 2
A26: Totals | B26: 5
A35: Find out more about the Custom Questions Add-On

Sheet Additional Survey Links Add-On
A1: Example Survey Results – For Demonstration Purposes Only
A2: The Additional Survey Link Add-On compares your overall results to those of any audience segment you'd like to gain deeper insight into
A3: ='Museum Results'!$E3&" - ALL" -> Wilkening Pottery Museum - ALL | B3: Back to Museum Results tab | E3: Members | I3: Non-Members
A4: ='Museum Results'!A4 -> 2026 Annual Survey of Museum-Goers
A7: 1.Question Text
A8: Value | B8: Percent | C8: Count | E8: Percent | F8: Count | G8: Difference | I8: Percent | J8: Count | K8: Difference
A9: Answer Choice 1 | B9: 0.24 | C9: 226 | E9: 0.231 | F9: 349 | G9: =$B9-E9 -> 0.009 | I9: 0.144 | J9: 141 | K9: =$B9-I9 -> 0.096
A10: Answer Choice 2 | B10: 0.308 | C10: 290 | E10: 0.35 | F10: 528 | G10: =$B10-E10 -> -0.042 | I10: 0.291 | J10: 285 | K10: =$B10-I10 -> 0.017
A11: Answer Choice 3 | B11: 0.296 | C11: 279 | E11: 0.356 | F11: 538 | G11: =$B11-E11 -> -0.06 | I11: 0.329 | J11: 322 | K11: =$B11-I11 -> -0.033
A12: Answer Choice 4 | B12: 0.139 | C12: 131 | E12: 0.052 | F12: 79 | G12: =$B12-E12 -> 0.087 | I12: 0.219 | J12: 214 | K12: =$B12-I12 -> -0.08
A13: Answer Choice 5 | B13: 0.016 | C13: 15 | E13: 0.011 | F13: 16 | G13: =$B13-E13 -> 0.005 | I13: 0.017 | J13: 17 | K13: =$B13-I13 -> -0.001
B14: Totals | C14: 941 | E14: Totals | F14: 859 | I14: Totals | J14: =C14-F14 -> 82
A17: 2.Question Text
A18: Value | B18: Percent | C18: Count | E18: Percent | F18: Count | G18: Difference | I18: Percent | J18: Count | K18: Difference
A19: Answer Choice 1 | B19: 0.529 | C19: 496 | E19: 0.59 | F19: 888 | G19: =$B19-E19 -> -0.061 | I19: 0.612 | J19: 598 | K19: =$B19-I19 -> -0.083
A20: Answer Choice 2 | B20: 0.028 | C20: 26 | E20: 0.038 | F20: 57 | G20: =$B20-E20 -> -0.01 | I20: 0.034 | J20: 33 | K20: =$B20-I20 -> -0.006
A21: Answer Choice 3 | B21: 0.239 | C21: 224 | E21: 0.223 | F21: 336 | G21: =$B21-E21 -> 0.016 | I21: 0.235 | J21: 230 | K21: =$B21-I21 -> 0.004
A22: Answer Choice 4 | B22: 0.125 | C22: 117 | E22: 0.128 | F22: 193 | G22: =$B22-E22 -> -0.003 | I22: 0.118 | J22: 115 | K22: =$B22-I22 -> 0.007
A23: Answer Choice 5 | B23: 0.644 | C23: 603 | E23: 0.631 | F23: 950 | G23: =$B23-E23 -> 0.013 | I23: 0.688 | J23: 672 | K23: =$B23-I23 -> -0.044
A24: Answer Choice 6 | B24: 0.449 | C24: 421 | E24: 0.448 | F24: 674 | G24: =$B24-E24 -> 0.001 | I24: 0.425 | J24: 415 | K24: =$B24-I24 -> 0.024
A25: Answer Choice 7 | B25: 0.006 | C25: 6 | E25: 0.016 | F25: 24 | G25: =$B25-E25 -> -0.01 | I25: 0.012 | J25: 12 | K25: =$B25-I25 -> -0.006
A26: Answer Choice 8 | B26: 0.256 | C26: 240 | E26: 0.243 | F26: 365 | G26: =$B26-E26 -> 0.013 | I26: 0.247 | J26: 241 | K26: =$B26-I26 -> 0.009
A27: Answer Choice 9 | B27: 0.4 | C27: 375 | E27: 0.385 | F27: 579 | G27: =$B27-E27 -> 0.015 | I27: 0.448 | J27: 438 | K27: =$B27-I27 -> -0.048
A28: None of these | B28: 0.009 | C28: 8 | E28: 0.007 | F28: 10 | G28: =$B28-E28 -> 0.002 | I28: 0.006 | J28: 6 | K28: =$B28-I28 -> 0.003
A29: Other - please specify | B29: 0.172 | C29: 161 | E29: 0.134 | F29: 202 | G29: =$B29-E29 -> 0.038 | I29: 0.136 | J29: 133 | K29: =$B29-I29 -> 0.036
A32: 3.Question Text
A33: Value | B33: Percent | C33: Count | E33: Percent | F33: Count | G33: Difference | I33: Percent | J33: Count | K33: Difference
A34: Answer Choice 1 | B34: 0.004 | C34: 4 | E34: 0.004 | F34: 6 | G34: =$B34-E34 -> 0 | I34: 0.002 | J34: 2 | K34: =$B34-I34 -> 0.002
A35: Answer Choice 2 | B35: 0.767 | C35: 691 | E35: 0.765 | F35: 1108 | G35: =$B35-E35 -> 0.002 | I35: 0.772 | J35: 722 | K35: =$B35-I35 -> -0.005
A36: Answer Choice 3 | B36: 0.144 | C36: 130 | E36: 0.136 | F36: 197 | G36: =$B36-E36 -> 0.008 | I36: 0.145 | J36: 136 | K36: =$B36-I36 -> -0.001
A37: Answer Choice 4 | B37: 0.121 | C37: 109 | E37: 0.137 | F37: 199 | G37: =$B37-E37 -> -0.016 | I37: 0.163 | J37: 152 | K37: =$B37-I37 -> -0.042
A38: Answer Choice 5 | B38: 0.21 | C38: 189 | E38: 0.191 | F38: 276 | G38: =$B38-E38 -> 0.019 | I38: 0.163 | J38: 152 | K38: =$B38-I38 -> 0.047
A39: Answer Choice 6 | B39: 0.003 | C39: 3 | E39: 0.008 | F39: 11 | G39: =$B39-E39 -> -0.005 | I39: 0.002 | J39: 2 | K39: =$B39-I39 -> 0.001
A40: Answer Choice 7 | B40: 0.04 | C40: 36 | E40: 0.058 | F40: 84 | G40: =$B40-E40 -> -0.018 | I40: 0.075 | J40: 70 | K40: =$B40-I40 -> -0.035
A41: Answer Choice 8 | B41: 0.422 | C41: 380 | E41: 0.432 | F41: 626 | G41: =$B41-E41 -> -0.01 | I41: 0.518 | J41: 484 | K41: =$B41-I41 -> -0.096
A42: Answer Choice 9 | B42: 0.388 | C42: 350 | E42: 0.343 | F42: 496 | G42: =$B42-E42 -> 0.045 | I42: 0.356 | J42: 333 | K42: =$B42-I42 -> 0.032
A43: None of these | B43: 0.02 | C43: 18 | E43: 0.016 | F43: 23 | G43: =$B43-E43 -> 0.004 | I43: 0.012 | J43: 11 | K43: =$B43-I43 -> 0.008
A44: Other - please specify | B44: 0.121 | C44: 109 | E44: 0.107 | F44: 155 | G44: =$B44-E44 -> 0.014 | I44: 0.117 | J44: 109 | K44: =$B44-I44 -> 0.004
A47: Topline and aggregate results © 2026 Wilkening Consulting, LLC
A50: Find out more about the Additional Survey Link Add-On

Sheet Audience Comparison Add-On
A1: Example Survey Results – For Demonstration Purposes Only
A2: The Audience Comparison (Cross-Tab) Add-On gives you a breakdown of your results by specific survey questions and answers, or even by life stage (as demonstrated here)
A3: ='Museum Results'!$E3&" - ALL" -> Wilkening Pottery Museum - ALL | B3: Back to Museum Results Tab | E3: Under 40, no children | I3: Parents or Guardians | M3: 40-59, no children | Q3: 60 or older, no children
A4: 2026 Annual Survey of Museum-Goers
A7: 1.Question Text
A8: Value | B8: Percent | C8: Count | E8: Percent | F8: Count | G8: Difference | I8: Percent | J8: Count | K8: Difference | M8: Percent | N8: Count | O8: Difference | Q8: Percent | R8: Count | S8: Difference
A9: Answer Choice 1 | B9: 0.24 | C9: 226 | E9: 0.231 | F9: 349 | G9: =$B9-E9 -> 0.009 | I9: 0.144 | J9: 141 | K9: =$B9-I9 -> 0.096 | M9: 0.438 | N9: 434 | O9: =$B9-M9 -> -0.198 | Q9: 0.428 | R9: 342 | S9: =$B9-Q9 -> -0.188
A10: Answer Choice 2 | B10: 0.308 | C10: 290 | E10: 0.35 | F10: 528 | G10: =$B10-E10 -> -0.042 | I10: 0.291 | J10: 285 | K10: =$B10-I10 -> 0.017 | M10: 0.309 | N10: 307 | O10: =$B10-M10 -> -0.001 | Q10: 0.373 | R10: 298 | S10: =$B10-Q10 -> -0.065
A11: Answer Choice 3 | B11: 0.296 | C11: 279 | E11: 0.356 | F11: 538 | G11: =$B11-E11 -> -0.06 | I11: 0.329 | J11: 322 | K11: =$B11-I11 -> -0.033 | M11: 0.175 | N11: 174 | O11: =$B11-M11 -> 0.121 | Q11: 0.13 | R11: 104 | S11: =$B11-Q11 -> 0.166
A12: Answer Choice 4 | B12: 0.139 | C12: 131 | E12: 0.052 | F12: 79 | G12: =$B12-E12 -> 0.087 | I12: 0.219 | J12: 214 | K12: =$B12-I12 -> -0.08 | M12: 0.075 | N12: 74 | O12: =$B12-M12 -> 0.064 | Q12: 0.058 | R12: 46 | S12: =$B12-Q12 -> 0.081
A13: Answer Choice 5 | B13: 0.016 | C13: 15 | E13: 0.011 | F13: 16 | G13: =$B13-E13 -> 0.005 | I13: 0.017 | J13: 17 | K13: =$B13-I13 -> -0.001 | M13: 0.003 | N13: 3 | O13: =$B13-M13 -> 0.013 | Q13: 0.011 | R13: 9 | S13: =$B13-Q13 -> 0.005
B14: Totals | C14: 941 | E14: Totals | F14: 1510 | I14: Totals | J14: 979 | M14: Totals | N14: 992 | Q14: Totals | R14: 799
A17: 2.Question Text
A18: Value | B18: Percent | C18: Count | E18: Percent | F18: Count | G18: Difference | I18: Percent | J18: Count | K18: Difference | M18: Percent | N18: Count | O18: Difference | Q18: Percent | R18: Count | S18: Difference
A19: Answer Choice 1 | B19: 0.529 | C19: 496 | E19: 0.59 | F19: 888 | G19: =$B19-E19 -> -0.061 | I19: 0.629 | J19: 897 | K19: =$B19-I19 -> -0.1 | M19: 0.59 | N19: 888 | O19: =$B19-M19 -> -0.061 | Q19: 0.672 | R19: 537 | S19: =$B19-Q19 -> -0.143
A20: Answer Choice 2 | B20: 0.028 | C20: 26 | E20: 0.038 | F20: 57 | G20: =$B20-E20 -> -0.01 | I20: 0.115 | J20: 164 | K20: =$B20-I20 -> -0.087 | M20: 0.038 | N20: 57 | O20: =$B20-M20 -> -0.01 | Q20: 0.041 | R20: 33 | S20: =$B20-Q20 -> -0.013
A21: Answer Choice 3 | B21: 0.239 | C21: 224 | E21: 0.223 | F21: 336 | G21: =$B21-E21 -> 0.016 | I21: 0.143 | J21: 204 | K21: =$B21-I21 -> 0.096 | M21: 0.223 | N21: 336 | O21: =$B21-M21 -> 0.016 | Q21: 0.29 | R21: 232 | S21: =$B21-Q21 -> -0.051
A22: Answer Choice 4 | B22: 0.125 | C22: 117 | E22: 0.128 | F22: 193 | G22: =$B22-E22 -> -0.003 | I22: 0.136 | J22: 194 | K22: =$B22-I22 -> -0.011 | M22: 0.128 | N22: 193 | O22: =$B22-M22 -> -0.003 | Q22: 0.135 | R22: 108 | S22: =$B22-Q22 -> -0.01
A23: Answer Choice 5 | B23: 0.644 | C23: 603 | E23: 0.631 | F23: 950 | G23: =$B23-E23 -> 0.013 | I23: 0.085 | J23: 121 | K23: =$B23-I23 -> 0.559 | M23: 0.631 | N23: 950 | O23: =$B23-M23 -> 0.013 | Q23: 0.746 | R23: 596 | S23: =$B23-Q23 -> -0.102
A24: Answer Choice 6 | B24: 0.449 | C24: 421 | E24: 0.448 | F24: 674 | G24: =$B24-E24 -> 0.001 | I24: 0.024 | J24: 34 | K24: =$B24-I24 -> 0.425 | M24: 0.448 | N24: 674 | O24: =$B24-M24 -> 0.001 | Q24: 0.562 | R24: 449 | S24: =$B24-Q24 -> -0.113
A25: Answer Choice 7 | B25: 0.006 | C25: 6 | E25: 0.016 | F25: 24 | G25: =$B25-E25 -> -0.01 | I25: 0.079 | J25: 113 | K25: =$B25-I25 -> -0.073 | M25: 0.016 | N25: 24 | O25: =$B25-M25 -> -0.01 | Q25: 0.016 | R25: 13 | S25: =$B25-Q25 -> -0.01
A26: Answer Choice 8 | B26: 0.256 | C26: 240 | E26: 0.243 | F26: 365 | G26: =$B26-E26 -> 0.013 | I26: 0.027 | J26: 39 | K26: =$B26-I26 -> 0.229 | M26: 0.243 | N26: 365 | O26: =$B26-M26 -> 0.013 | Q26: 0.323 | R26: 258 | S26: =$B26-Q26 -> -0.067
A27: Answer Choice 9 | B27: 0.4 | C27: 375 | E27: 0.385 | F27: 579 | G27: =$B27-E27 -> 0.015 | I27: 0.105 | J27: 150 | K27: =$B27-I27 -> 0.295 | M27: 0.385 | N27: 579 | O27: =$B27-M27 -> 0.015 | Q27: 0.074 | R27: 312 | S27: =$B27-Q27 -> 0.326
A28: None of these | B28: 0.009 | C28: 8 | E28: 0.007 | F28: 10 | G28: =$B28-E28 -> 0.002 | I28: 0.056 | J28: 80 | K28: =$B28-I28 -> -0.047 | M28: 0.007 | N28: 10 | O28: =$B28-M28 -> 0.002 | Q28: 0.001 | R28: 1 | S28: =$B28-Q28 -> 0.008
A29: Other - please specify | B29: 0.172 | C29: 161 | E29: 0.134 | F29: 202 | G29: =$B29-E29 -> 0.038 | I29: 0.034 | J29: 48 | K29: =$B29-I29 -> 0.138 | M29: 0.134 | N29: 202 | O29: =$B29-M29 -> 0.038 | Q29: 0.148 | R29: 118 | S29: =$B29-Q29 -> 0.024
A32: 3.Question Text
A33: Value | B33: Percent | C33: Count | E33: Percent | F33: Count | G33: Difference | I33: Percent | J33: Count | K33: Difference | M33: Percent | N33: Count | O33: Difference | Q33: Percent | R33: Count | S33: Difference
A34: Answer Choice 1 | B34: 0.004 | C34: 4 | E34: 0.003 | F34: 2 | G34: =$B34-E34 -> 0.001 | I34: 0.003 | J34: 3 | K34: =$B34-I34 -> 0.001 | M34: 0.004 | N34: 6 | O34: =$B34-M34 -> 0 | Q34: 0.002 | R34: 2 | S34: =$B34-Q34 -> 0.002
A35: Answer Choice 2 | B35: 0.767 | C35: 691 | E35: 0.737 | F35: 573 | G35: =$B35-E35 -> 0.03 | I35: 0.678 | J35: 648 | K35: =$B35-I35 -> 0.089 | M35: 0.765 | N35: 1108 | O35: =$B35-M35 -> 0.002 | Q35: 0.772 | R35: 722 | S35: =$B35-Q35 -> -0.005
A36: Answer Choice 3 | B36: 0.144 | C36: 130 | E36: 0.19 | F36: 148 | G36: =$B36-E36 -> -0.046 | I36: 0.195 | J36: 186 | K36: =$B36-I36 -> -0.051 | M36: 0.136 | N36: 197 | O36: =$B36-M36 -> 0.008 | Q36: 0.145 | R36: 136 | S36: =$B36-Q36 -> -0.001
A37: Answer Choice 4 | B37: 0.121 | C37: 109 | G37: =$B37-E37 -> 0.121 | K37: =$B37-I37 -> 0.121 | M37: 0.137 | N37: 199 | O37: =$B37-M37 -> -0.016 | Q37: 0.163 | R37: 152 | S37: =$B37-Q37 -> -0.042
A38: Answer Choice 5 | B38: 0.21 | C38: 189 | E38: 0.303 | F38: 236 | G38: =$B38-E38 -> -0.093 | I38: 0.309 | J38: 295 | K38: =$B38-I38 -> -0.099 | M38: 0.191 | N38: 276 | O38: =$B38-M38 -> 0.019 | Q38: 0.163 | R38: 152 | S38: =$B38-Q38 -> 0.047
A39: Answer Choice 6 | B39: 0.003 | C39: 3 | E39: 0.003 | F39: 2 | G39: =$B39-E39 -> 0 | I39: 0.008 | J39: 8 | K39: =$B39-I39 -> -0.005 | M39: 0.008 | N39: 11 | O39: =$B39-M39 -> -0.005 | Q39: 0.002 | R39: 2 | S39: =$B39-Q39 -> 0.001
A40: Answer Choice 7 | B40: 0.04 | C40: 36 | E40: 0.071 | F40: 55 | G40: =$B40-E40 -> -0.031 | I40: 0.045 | J40: 43 | K40: =$B40-I40 -> -0.005 | M40: 0.058 | N40: 84 | O40: =$B40-M40 -> -0.018 | Q40: 0.075 | R40: 70 | S40: =$B40-Q40 -> -0.035
A41: Answer Choice 8 | B41: 0.422 | C41: 380 | E41: 0.522 | F41: 406 | G41: =$B41-E41 -> -0.1 | I41: 0.463 | J41: 443 | K41: =$B41-I41 -> -0.041 | M41: 0.432 | N41: 626 | O41: =$B41-M41 -> -0.01 | Q41: 0.518 | R41: 484 | S41: =$B41-Q41 -> -0.096
A42: Answer Choice 9 | B42: 0.388 | C42: 350 | E42: 0.335 | F42: 261 | G42: =$B42-E42 -> 0.053 | I42: 0.334 | J42: 319 | K42: =$B42-I42 -> 0.054 | M42: 0.343 | N42: 496 | O42: =$B42-M42 -> 0.045 | Q42: 0.356 | R42: 333 | S42: =$B42-Q42 -> 0.032
A43: None of these | B43: 0.02 | C43: 18 | E43: 0.012 | F43: 9 | G43: =$B43-E43 -> 0.008 | I43: 0.012 | J43: 11 | K43: =$B43-I43 -> 0.008 | M43: 0.016 | N43: 23 | O43: =$B43-M43 -> 0.004 | Q43: 0.012 | R43: 11 | S43: =$B43-Q43 -> 0.008
A44: Other - please specify | B44: 0.121 | C44: 109 | E44: 0.103 | F44: 80 | G44: =$B44-E44 -> 0.018 | I44: 0.119 | J44: 114 | K44: =$B44-I44 -> 0.002 | M44: 0.107 | N44: 155 | O44: =$B44-M44 -> 0.014 | Q44: 0.117 | R44: 109 | S44: =$B44-Q44 -> 0.004
A48: Topline and aggregate results © 2026 Wilkening Consulting, LLC
A51: Find out more about the Audience Comparison (Cross-Tab) Add-On

Sheet Raw Data Spreadsheet Add-On
A1: Example Survey Results – For Demonstration Purposes Only
A2: The Raw Data Spreadsheet Add-On gives you access to the unfiltered, unproccesed version of your museum's results so you can analyze or use however your team needs
A3: Response ID | B3: Date Submitted | C3: Status | D3: Country | E3: City | F3: State/Region | G3: Postal | H3: URL Variable: museum | I3: Question to pipe in "museum" | J3: language | K3: Question 1 | L3: Question 2: Answer Choice 1 | M3: Question 2: Answer Choice 2 | N3: Question 2: Answer Choice 3 | O3: Question 2: Other - please specify
A4: 45612 | B4: 46079.247 | C4: Complete | D4: United States | F4: WA | H4: wilkpottery | I4: wilkpottery | J4: en-US | K4: Answer Choice 1 | N4: Answer Choice 3
A5: 45613 | B5: 46079.249 | C5: Complete | D5: United States | H5: wilkpottery | I5: wilkpottery | J5: en-US | K5: Answer Choice 1 | L5: Answer Choice 1
A6: 45614 | B6: 46079.253 | C6: Complete | D6: United States | E6: Seattle | F6: WA | G6: 98108 | H6: wilkpotterymember | I6: wilkpottery | J6: en-US | K6: Answer Choice 1
A7: 45615 | B7: 46079.251 | C7: Complete | D7: United States | H7: wilkpottery | I7: wilkpottery | J7: en-US | K7: Answer Choice 1 | M7: Answer Choice 2
A8: 45616 | B8: 46079.25 | C8: Complete | D8: United States | E8: Bellevue | F8: WA | G8: 98005 | H8: wilkpotterymember | I8: wilkpottery | J8: en-US | K8: Answer Choice 1 | L8: Answer Choice 1 | M8: Answer Choice 2 | O8: The film in the Blue Room about dyes is always a family favorite of ours!!
A9: 45617 | B9: 46079.248 | C9: Complete | D9: United States | E9: Seattle | F9: WA | G9: 98134 | H9: wilkpottery | I9: wilkpottery | J9: en-US | K9: Answer Choice 1
A10: 45618 | B10: 46079.248 | C10: Complete | D10: United States | E10: Corvallis | F10: OR | G10: 97333 | H10: wilkpottery | I10: wilkpottery | J10: en-US | K10: Answer Choice 1 | L10: Answer Choice 1
A11: 45619 | B11: 46079.253 | C11: Complete | D11: United States | E11: Issaquah | F11: WA | G11: 98029 | H11: wilkpotterymember | I11: wilkpottery | J11: en-US | K11: Answer Choice 1 | O11: Is it strange to say that the gift shop is one of my favorite parts of the museum? You all just do such a fabulous job, I can't help but stop in every time we visit. And the member discount doesn't hurt :)
A12: 45620 | B12: 46079.246 | C12: Complete | D12: United States | E12: Snoqualmie | F12: WA | G12: 98065 | H12: wilkpotterymember | I12: wilkpottery | J12: en-US | K12: Answer Choice 1 | L12: Answer Choice 1 | N12: Answer Choice 3 | O12: the A/C neverseems to be working in the lobby, what is up with that?
A13: 45621 | B13: 46079.252 | C13: Complete | D13: United States | E13: Seattle | F13: WA | G13: 98177 | H13: wilkpottery | I13: wilkpottery | J13: en-US | K13: Answer Choice 2 | M13: Answer Choice 2
A14: 45622 | B14: 46079.268 | C14: Complete | D14: United States | E14: Vashon Island | F14: WA | G14: 98070 | H14: wilkpottery | I14: wilkpottery | J14: en-US | K14: Answer Choice 2 | L14: Answer Choice 1 | M14: Answer Choice 2
A15: 45623 | B15: 46079.254 | C15: Complete | D15: United States | E15: Albany | F15: NY | G15: 12158 | H15: wilkpottery | I15: wilkpottery | J15: en-US | K15: Answer Choice 2 | L15: Answer Choice 1 | O15: When we visit our daughter in Seattle, we always make a trip to your museum
A16: 45624 | B16: 46079.243 | C16: Partial | D16: United States | E16: Seattle | F16: WA | G16: 98199 | H16: wilkpotterymember | I16: wilkpottery | J16: en-US | K16: Answer Choice 1 | L16: Answer Choice 1 | N16: Answer Choice 3
A17: 45625 | B17: 46123.731 | C17: Complete | D17: United States | E17: San Diego | F17: CA | G17: 92104 | H17: wilkpottery | I17: wilkpottery | J17: en-US | K17: Answer Choice 3 | L17: Answer Choice 1 | N17: Answer Choice 3
A25: Find out more about the Raw Data Spreadsheet Add-On

Sheet Expanded Reporting Add-On
A1: Example Survey Results – For Demonstration Purposes Only
A2: Building upon the Additional Survey Link or Audience Comparison (Cross-Tab) add-ons; the Expanded Reporting Add-On breaks out each group’s open-ended comments (along with additional visuals in your slide deck report)
A3: ='Museum Results'!$E3&" - ALL" -> Wilkening Pottery Museum - ALL
A4: ='Museum Results'!A4 -> 2026 Annual Survey of Museum-Goers
A5: Back to Museum Results tab
A6: 2.Question Text | B6: ALL Responses | E6: Members | I6: Non-Members
A7: Value | B7: Percent | C7: Count | E7: Percent | F7: Count | G7: Difference | I7: Percent | J7: Count | K7: Difference
A8: Answer Choice 1 | B8: 0.792 | C8: 696 | E8: 0.929 | F8: 338 | G8: =E8-$B8 -> 0.137 | I8: 0.695 | J8: 358 | K8: =I8-$B8 -> -0.097
A9: Answer Choice 2 | B9: 0.307 | C9: 270 | E9: 0.574 | F9: 209 | G9: =E9-$B9 -> 0.267 | I9: 0.118 | J9: 61 | K9: =I9-$B9 -> -0.189
A10: Answer Choice 3 | B10: 0.151 | C10: 133 | E10: 0.124 | F10: 45 | G10: =E10-$B10 -> -0.027 | I10: 0.171 | J10: 88 | K10: =I10-$B10 -> 0.02
A11: Answer Choice 4 | B11: 0.146 | C11: 128 | E11: 0.137 | F11: 50 | G11: =E11-$B11 -> -0.009 | I11: 0.151 | J11: 78 | K11: =I11-$B11 -> 0.005
A12: Answer Choice 5 | B12: 0.003 | C12: 3 | E12: 0.005 | F12: 2 | G12: =E12-$B12 -> 0.002 | I12: 0.002 | J12: 1 | K12: =I12-$B12 -> -0.001
A13: Answer Choice 6 | B13: 0.019 | C13: 17 | E13: 0.014 | F13: 5 | G13: =E13-$B13 -> -0.005 | I13: 0.023 | J13: 12 | K13: =I13-$B13 -> 0.004
A14: Answer Choice 7 | B14: 0.013 | C14: 11 | E14: 0.019 | F14: 7 | G14: =E14-$B14 -> 0.006 | I14: 0.008 | J14: 4 | K14: =I14-$B14 -> -0.005
A15: Answer Choice 8 | B15: 0.028 | C15: 25 | E15: 0.036 | F15: 13 | G15: =E15-$B15 -> 0.008 | I15: 0.023 | J15: 12 | K15: =I15-$B15 -> -0.005
A16: Answer Choice 9 | B16: 0.017 | C16: 15 | E16: 0.019 | F16: 7 | G16: =E16-$B16 -> 0.002 | I16: 0.016 | J16: 8 | K16: =I16-$B16 -> -0.001
A17: None of these | B17: 0.066 | C17: 58 | E17: 0.011 | F17: 4 | G17: =E17-$B17 -> -0.055 | I17: 0.105 | J17: 54 | K17: =I17-$B17 -> 0.039
A18: Other - please specify | B18: 0.159 | C18: 140 | E18: 0.088 | F18: 3 | G18: =E18-$B18 -> -0.071 | I18: 0.21 | J18: 1 | K18: =I18-$B18 -> 0.051
E22: Other - please specify | F22: Count | I22: Other - please specify | J22: Count
E23: Members | I23: Non-Members
E24: Is it strange to say that the gift shop is one of my favorite parts of the museum? You all just do such a fabulous job, I can't help but stop in every time we visit. And the member discount doesn't hurt :) | F24: 1 | I24: The film in the Blue Room about dyes is always a family favorite of ours!! | J24: 1
E25: I've been attending workshops since lockdown ended. I feel more connected to the exhibits because of what I learn. | F25: 1 | I25: Totals | J25: 1
E26: the A/C neverseems to be working in the lobby, what is up with that? | F26: 1
E27: Totals | F27: 3
A35: Find out more about the Expanded Reporting Add-On
A38: See how Expanded Reporting results will be presented in your Visual Slide Deck report

Sheet Local Broader Population Add-On
A1: Example Survey Results – For Demonstration Purposes Only
A2: With the Local Broader Population Sampling Add-On, we field a version of the Annual Survey to a demographically representative sample of adults from your city or metro area, county, or state. That data will appear in a tab like this one, which compares those results to your musem's results (when the questions are comparable between both surveys)
A3: ='Museum Results'!E3 -> Wilkening Pottery Museum | B3: Back to Museum Results Tab | E3: Report for 2026 Annual Survey of Museum-Goers - Seattle | H3: Broader pop vs. your museum-goers | J3: Visited your museum in past 3 years from broader population | L3: Broader pop visited your museum higher/lower than your museum-goers | M3: Broader population visited your museum higher/lower than overall area broader population | O3: Has NOT visited your museum in past 3 years from broader population | Q3: Non-visitors from area broader population higher/lower than your museum-goers | R3: Non-visitors from area broader population higher/lower than overall area broader population
A4: ='Museum Results'!A4 -> 2026 Annual Survey of Museum-Goers | E4: Fielded March 10 - 20, 2026; Total responses:
A5: Results appear when comparable question asked | E5: 263 | J5: Number: | K5: 127 | O5: Number: | P5: 136
A7: *Note: we ask about visits to local area attractions, including your museum, so you can better understand how people spend their time in your community. This helps us identify your casual or spordic visitors, and non-visitors and/or potential visitors | E7: 1.Which of the following Seattle-area attractions have you visited in the past three years? (Choose all that you have visited in person since 2023.)
E8: Value | F8: Percent | G8: Count | J8: Percent | K8: Count | M8: Difference | O8: Percent | P8: Count | R8: Difference
E9: Answer Choice 1 | F9: 0.238 | G9: 62 | J9: 0.307 | K9: 39 | M9: =J9-$F9 -> 0.069 | O9: 0.172 | P9: 23 | R9: =O9-$F9 -> -0.066
E10: Answer Choice 2 | F10: 0.149 | G10: 39 | J10: 0.189 | K10: 24 | M10: =J10-$F10 -> 0.04 | O10: 0.112 | P10: 15 | R10: =O10-$F10 -> -0.037
E11: Answer Choice 3 | F11: 0.188 | G11: 49 | J11: 0.213 | K11: 27 | M11: =J11-$F11 -> 0.025 | O11: 0.164 | P11: 22 | R11: =O11-$F11 -> -0.024
E12: Answer Choice 4 | F12: 0.345 | G12: 90 | J12: 0.465 | K12: 59 | M12: =J12-$F12 -> 0.12 | O12: 0.231 | P12: 31 | R12: =O12-$F12 -> -0.114
E13: Answer Choice 5 | F13: 0.149 | G13: 39 | J13: 0.197 | K13: 25 | M13: =J13-$F13 -> 0.048 | O13: 0.104 | P13: 14 | R13: =O13-$F13 -> -0.045
E14: Answer Choice 6 | F14: 0.375 | G14: 98 | J14: 0.528 | K14: 67 | M14: =J14-$F14 -> 0.153 | O14: 0.231 | P14: 31 | R14: =O14-$F14 -> -0.144
E15: Answer Choice 7 | F15: 0.72 | G15: 188 | J15: 0.795 | K15: 101 | M15: =J15-$F15 -> 0.075 | O15: 0.649 | P15: 87 | R15: =O15-$F15 -> -0.071
E16: Answer Choice 8 | F16: 0.218 | G16: 57 | J16: 0.362 | K16: 46 | M16: =J16-$F16 -> 0.144 | O16: 0.082 | P16: 11 | R16: =O16-$F16 -> -0.136
E17: Answer Choice 9 | F17: 0.096 | G17: 25 | J17: 0.11 | K17: 14 | M17: =J17-$F17 -> 0.014 | O17: 0.082 | P17: 11 | R17: =O17-$F17 -> -0.014
E18: Wilkening Pottery Museum | F18: 0.487 | G18: 127 | J18: 1 | K18: 127 | M18: =J18-$F18 -> 0.513 | O18: 0 | P18: 0 | R18: =O18-$F18 -> -0.487
E19: None of these | F19: 0.111 | G19: 29 | J19: 0 | K19: 0 | M19: =J19-$F19 -> -0.111 | O19: 0.216 | P19: 29 | R19: =O19-$F19 -> 0.105
E20: Other - please specify | F20: 0.019 | G20: 5 | J20: 0.008 | K20: 1 | M20: =J20-$F20 -> -0.011 | O20: 0.03 | P20: 4 | R20: =O20-$F20 -> 0.011
A23: 1.Question Text | E23: 2.Question Text
A24: Value | B24: Percent | C24: Count | E24: Value | F24: Percent | G24: Count | H24: Difference | J24: Percent | K24: Count | L24: Difference | M24: Difference | O24: Percent | P24: Count | Q24: Difference | R24: Difference
A25: Answer Choice 1 | B25: 0.24 | C25: 226 | E25: Answer Choice 1 | F25: 0.11 | G25: 29 | H25: =F25-$B25 -> -0.13 | J25: 0.15 | K25: 19 | L25: =J25-$B25 -> -0.09 | M25: =J25-$F25 -> 0.04 | O25: 0.074 | P25: 10 | Q25: =O25-$B25 -> -0.166 | R25: =O25-$F25 -> -0.036
A26: Answer Choice 2 | B26: 0.308 | C26: 290 | E26: Answer Choice 2 | F26: 0.217 | G26: 57 | H26: =F26-$B26 -> -0.091 | J26: 0.283 | K26: 36 | L26: =J26-$B26 -> -0.025 | M26: =J26-$F26 -> 0.066 | O26: 0.154 | P26: 21 | Q26: =O26-$B26 -> -0.154 | R26: =O26-$F26 -> -0.063
A27: Answer Choice 3 | B27: 0.296 | C27: 279 | E27: Answer Choice 3 | F27: 0.312 | G27: 82 | H27: =F27-$B27 -> 0.016 | J27: 0.354 | K27: 45 | L27: =J27-$B27 -> 0.058 | M27: =J27-$F27 -> 0.042 | O27: 0.272 | P27: 37 | Q27: =O27-$B27 -> -0.024 | R27: =O27-$F27 -> -0.04
E28: Answer Choice 4 | F28: 0.19 | G28: 50 | J28: 0.173 | K28: 22 | M28: =J28-$F28 -> -0.017 | O28: 0.206 | P28: 28 | R28: =O28-$F28 -> 0.016
A29: Answer Choice 4 | B29: 0.016 | C29: 15 | E29: Answer Choice 5 | F29: 0.171 | G29: 45 | H29: =(F29+F28)-$B29 -> 0.345 | J29: 0.039 | K29: 5 | L29: =(J29+J28)-$B29 -> 0.196 | M29: =J29-$F29 -> -0.132 | O29: 0.294 | P29: 40 | Q29: =(O29+O28)-$B29 -> 0.484 | R29: =O29-$F29 -> 0.123
B30: Totals | C30: 941 | F30: Totals | G30: 263 | J30: Totals | K30: 127 | O30: Totals | P30: 136
A32: *Note: the Broader Population version had an additional answer choice for this question that was not included in the base Annual Survey
E33: 3.Question Text
E34: Value | F34: Percent | G34: Count | J34: Percent | K34: Count | M34: Difference | O34: Percent | P34: Count | R34: Difference
E35: Answer Choice 1 | F35: 0.367 | G35: 152 | J35: 0.409 | K35: 79 | M35: =J35-$F35 -> 0.042 | O35: 0.33 | P35: 73 | R35: =O35-$F35 -> -0.037
E36: Answer Choice 2 | F36: 0.239 | G36: 99 | J36: 0.249 | K36: 48 | M36: =J36-$F36 -> 0.01 | O36: 0.231 | P36: 51 | R36: =O36-$F36 -> -0.008
E37: Answer Choice 3 | F37: 0.21 | G37: 87 | J37: 0.301 | K37: 58 | M37: =J37-$F37 -> 0.091 | O37: 0.131 | P37: 29 | R37: =O37-$F37 -> -0.079
E38: Answer Choice 4 | F38: 0.164 | G38: 68 | J38: 0.238 | K38: 46 | M38: =J38-$F38 -> 0.074 | O38: 0.1 | P38: 22 | R38: =O38-$F38 -> -0.064
E39: Answer Choice 5 | F39: 0.459 | G39: 190 | J39: 0.451 | K39: 87 | M39: =J39-$F39 -> -0.008 | O39: 0.466 | P39: 103 | R39: =O39-$F39 -> 0.007
E40: Answer Choice 6 | F40: 0.548 | G40: 227 | J40: 0.648 | K40: 125 | M40: =J40-$F40 -> 0.1 | O40: 0.462 | P40: 102 | R40: =O40-$F40 -> -0.086
E41: Answer Choice 7 | F41: 0.432 | G41: 179 | J41: 0.539 | K41: 104 | M41: =J41-$F41 -> 0.107 | O41: 0.339 | P41: 75 | R41: =O41-$F41 -> -0.093
E42: Answer Choice 8 | F42: 0.304 | G42: 126 | J42: 0.321 | K42: 62 | M42: =J42-$F42 -> 0.017 | O42: 0.29 | P42: 64 | R42: =O42-$F42 -> -0.014
E43: Answer Choice 9 | F43: 0.495 | G43: 205 | J43: 0.523 | K43: 101 | M43: =J43-$F43 -> 0.028 | O43: 0.471 | P43: 104 | R43: =O43-$F43 -> -0.024
E44: None of these | F44: 0.007 | G44: 3 | J44: 0.01 | K44: 2 | M44: =J44-$F44 -> 0.003 | O44: 0.005 | P44: 1 | R44: =O44-$F44 -> -0.002
E45: Other - please specify | F45: 0.027 | G45: 11 | J45: 0.01 | K45: 2 | M45: =J45-$F45 -> -0.017 | O45: 0.041 | P45: 9 | R45: =O45-$F45 -> 0.014
A49: Topline and aggregate results © 2026 Wilkening Consulting, LLC
A52: Find out more about the Local Broader Population Sampling Add-On
A55: See how Expanded Reporting results will be presented in your Visual Slide Deck report
